BEGIN:VCALENDAR
VERSION:2.0
PRODID:-//The 180i Digital Magazine - ECPv6.15.20//NONSGML v1.0//EN
CALSCALE:GREGORIAN
METHOD:PUBLISH
X-ORIGINAL-URL:https://www.the180i.com
X-WR-CALDESC:Events for The 180i Digital Magazine
REFRESH-INTERVAL;VALUE=DURATION:PT1H
X-Robots-Tag:noindex
X-PUBLISHED-TTL:PT1H
BEGIN:VTIMEZONE
TZID:Europe/Paris
BEGIN:DAYLIGHT
TZOFFSETFROM:+0100
TZOFFSETTO:+0200
TZNAME:CEST
DTSTART:20240331T010000
END:DAYLIGHT
BEGIN:STANDARD
TZOFFSETFROM:+0200
TZOFFSETTO:+0100
TZNAME:CET
DTSTART:20241027T010000
END:STANDARD
BEGIN:DAYLIGHT
TZOFFSETFROM:+0100
TZOFFSETTO:+0200
TZNAME:CEST
DTSTART:20250330T010000
END:DAYLIGHT
BEGIN:STANDARD
TZOFFSETFROM:+0200
TZOFFSETTO:+0100
TZNAME:CET
DTSTART:20251026T010000
END:STANDARD
BEGIN:DAYLIGHT
TZOFFSETFROM:+0100
TZOFFSETTO:+0200
TZNAME:CEST
DTSTART:20260329T010000
END:DAYLIGHT
BEGIN:STANDARD
TZOFFSETFROM:+0200
TZOFFSETTO:+0100
TZNAME:CET
DTSTART:20261025T010000
END:STANDARD
END:VTIMEZONE
BEGIN:VEVENT
DTSTART;VALUE=DATE:20250607
DTEND;VALUE=DATE:20250609
DTSTAMP:20260421T205503
CREATED:20250501T164111Z
LAST-MODIFIED:20250605T003936Z
UID:23638-1749254400-1749427199@www.the180i.com
SUMMARY:The Blue Economy Finance Forum kicks off as part of the UN Ocean Conference Monaco June 7th & 8th
DESCRIPTION:The Blue Economy and Finance Forum (BEFF) will kick off in Monaco just ahead of the UN Ocean Conference on June 7th and 8th. \nThe Forum will be part of the United Nations Ocean Conference (UNOC3) to be held in Nice from 9 to 13 June 2025\, co-organised by France and Costa Rica. \nThe BEFF aims to bring together solutions to support the blue economy and safeguard marine ecosystems\, in response to Sustainable Development Goal 14 (SDG14). \nWith the ocean economy projected to exceed $3 trillion by 2030\, BEFF brings together global investors\, policymakers\, and innovators to unlock capital where it matters most – building resilient coastlines and communities\, scaling a robust regenerative blue economy\, and scaling new solutions for ocean health. \nThe Ocean’s socio-economic and geopolitical significance is growing exponentially. An estimated investment of USD 175 billion is needed annually for the maritime economy to become sustainable and inclusive\, with stronger cooperation of the private sector\, governments\, intergovernmental organisations\, and civil society. The Blue Economy and Finance Forum (BEFF) will showcase the key actors involved in developing the enabling environment that will allow investments in the millions and billions to make this blue transformation a reality. \nKindly note: Registrations are now closed.
URL:https://www.the180i.com/event/the-blue-economy-finance-forum-kicks-off-as-part-of-the-un-ocean-conference-june-7th-8th/
LOCATION:Grimaldi Forum\, 10\, avenue Princesse Grace\, Monaco
CATEGORIES:Business,Conference,Featured,Most Popular,Sustainability
ATTACH;FMTTYPE=image/jpeg:https://www.the180i.com/wp-content/uploads/2025/06/blue-finance-forum-2025-1200x630-opt.jpg
END:VEVENT
BEGIN:VEVENT
DTSTART;VALUE=DATE:20250609
DTEND;VALUE=DATE:20250614
DTSTAMP:20260421T205503
CREATED:20250516T193510Z
LAST-MODIFIED:20250605T002634Z
UID:23372-1749427200-1749859199@www.the180i.com
SUMMARY:UN Ocean Conference Nice 2025 June 9-13\, 2025\,
DESCRIPTION:From June 9-13\, 2025\, global leaders\, businesses\, scientists\, and civil society will gather in Nice\, France for the 3rd United Nations Ocean Conference (UNOC3)\, co-hosted by France and Costa Rica. \n🔹 Goal: Accelerate action to protect\, restore\, and sustainably manage the ocean.🔹 Focus: Delivering an ambitious Nice Ocean Action Plan to achieve SDG14 – Life Below Water. \n3 Key Priorities:✅ Raising ambition in global ocean protection✅ Mobilizing finance for SDG14 & the sustainable blue economy✅ Strengthening ocean science for smarter policy-making \nEach day will feature high-level commitments\, cross-sector dialogues\, and action-driven panels designed to turn pledges into real impact. 🌍💼 \nThe so-called Blue Zone\, reserved to governments and accredited organizations\, will be installed in Port Lympia in downtown Nice. And the Green Zone will be located at The Whale (La Baleine). \nThe ocean is vital to life on Earth — climate regulation\, food security\, jobs\, and biodiversity all depend on it. Now is the time for bold\, collective action. \n🔗 Learn more and get involved https://unocnice2025.org/en/
URL:https://www.the180i.com/event/un-ocean-conference-nice-2025-june-9-13-2025/
LOCATION:United Nations\, Nice\, France
CATEGORIES:Business,Conference,Featured,Grand Rendez-vous,Sustainability
ATTACH;FMTTYPE=image/jpeg:https://www.the180i.com/wp-content/uploads/2025/05/un-ocean-conference-highlights-lb-1200x630-opt-1.jpg
END:VEVENT
BEGIN:VEVENT
DTSTART;TZID=Europe/Paris:20250609T120000
DTEND;TZID=Europe/Paris:20250609T130000
DTSTAMP:20260421T205503
CREATED:20250604T181737Z
LAST-MODIFIED:20250604T190106Z
UID:23652-1749470400-1749474000@www.the180i.com
SUMMARY:Foundation Prince Albert II at UNOC 2025: Launch of the 'Polar Donors Roundtable' June 9th Nice
DESCRIPTION:Mobilizing collaborative philanthropy for the Poles: The Launch of the Polar Donors Roundtable \nAt the United Nations Ocean Conference (UNOC 2025)\, the founding members of the Polar Donors Roundtable (PDR) will come together for an high-level side event\, marking the launch of a new philanthropic collaboration dedicated to the Arctic and Antarctic. \nThe Arctic and Antarctic regions play a vital role in regulating Earth’s climate\, yet they are warming at rates far exceeding the global average. While the world wakes up to the urgency of climate action\, one vital piece remains underfunded and often overlooked: the poles. \nThis side event will spotlight the collaborative ambition behind the Polar Donors Roundtable: a new platform that brings together philanthropic leaders to foster dialogue\, align funding priorities\, share knowledge\, and explore opportunities to safeguard the poles. Anchored in shared responsibility and long-term commitment\, the PDR aims to bridge the growing gap between the scale of urgent needs and the limited support currently available for science\, conservation\, and communities in the polar regions. \nProgramme Highlights\nOpening \nPanel Discussion: Collaborative funding for polar regions \n\nDr. Renuka Badhe\, Fondation Prince Albert II de Monaco (moderator)\nDr. Eoghan Griffin\, Scientific Committee on Antarctic Research (SCAR)\nRyan Dolan\, Blue Nature Alliance\nSólrún Svandal\, Arctic Science Funders Forum (ASFF)\n\nClosing Remarks \nJoin us to explore how strategic giving can help secure a resilient future for the Arctic\, Antarctic\, and our global climate. \nCo-organized by : Fondation Prince Albert II de Monaco\, Fondation Albédo pour la Cryosphère\, Oceans 5\, Gordon and Betty Moore Foundation\, Blue Nature Alliance \nDate: 09 June 2025 – 12:15 to 12:45 \nVenue: Pavillon de la Cryosphère\, Green Zone « La Baleine » – Nice \n 
URL:https://www.the180i.com/event/foundation-prince-albert-ii-at-unoc-2025-launch-of-the-polar-donors-roundtable/
LOCATION:Pavillon de la Cryosphère\, Palais des Expositions\, Nice\, 6 Avenue du Maréchal Lyautey\, France
CATEGORIES:Business,Conference,Featured,Grand Rendez-vous,Most Popular,Sustainability
ATTACH;FMTTYPE=image/jpeg:https://www.the180i.com/wp-content/uploads/2025/06/fpa2-polar-donors-1200x630-opt.jpg
END:VEVENT
BEGIN:VEVENT
DTSTART;TZID=Europe/Paris:20250611T153000
DTEND;TZID=Europe/Paris:20250611T180000
DTSTAMP:20260421T205503
CREATED:20250430T232555Z
LAST-MODIFIED:20250605T003848Z
UID:23495-1749655800-1749664800@www.the180i.com
SUMMARY:Official launch of the ‘Pelagos Consortium’ by Foundation Prince Albert II in Nice #UNOC3
DESCRIPTION:On June 11\, 2025\, during the 3rd United Nations Ocean Conference (UNOC3) in Nice\, the Prince Albert II of Monaco Foundation will host a pivotal side event titled “Pelagos: An Exceptional Sanctuary\, a Collective Movement.” \nThis gathering will mark the official launch of the Pelagos Consortium\, a powerful new alliance of NGOs\, scientists\, public institutions\, and foundations dedicated to protecting cetaceans and their vital habitat in the #Mediterranean. \nThis special side event will take place at the Palais des Rois Sardes in Nice from 4:00pm to 6:00pm\, with a coffee reception starting at 3:30pm. \nThe event will feature simultaneous interpretation in English\, French\, and Italian. \nInterested participants are required to register by June 4 – registration is available here. \nFor all details\, read the full programme here.
URL:https://www.the180i.com/event/official-launch-of-the-pelagos-consortium-by-foundation-prince-albert-ii-in-nice-unoc3/
LOCATION:Palais des Rois Sardes\, 10 rue de la Préfecture\, Nice\, 06300\, France
CATEGORIES:Business,Conference,Featured,Most Popular,Sustainability
ATTACH;FMTTYPE=image/jpeg:https://www.the180i.com/wp-content/uploads/2025/05/pelagos-fpa2-1200x630-opt.jpg
END:VEVENT
BEGIN:VEVENT
DTSTART;TZID=Europe/Paris:20250612T123000
DTEND;TZID=Europe/Paris:20250612T170000
DTSTAMP:20260421T205503
CREATED:20250425T020650Z
LAST-MODIFIED:20250425T020921Z
UID:22796-1749731400-1749747600@www.the180i.com
SUMMARY:Conférence - "Sohn Monaco 2025"
DESCRIPTION:Thursday 12 June 2025\, at 12:30 PM\, Yacht Club de Monaco \nThe 5th Sohn Monaco Investment Conference will be held on Thursday 12 June 2025 under the High Patronage of H.S.H. Prince Albert II of Monaco\, convening Europe’s leading hedge fund managers to present their most compelling investment ideas\, with all proceeds benefiting paediatric cancer research and treatment. \nSince its inception in 1995\, the New York-based Sohn Foundation has gathered the global financial industry for an exhilarating day of highly anticipated market insights from the world’s top investors. \nThe Sohn Foundation supports cutting-edge medical research\, state-of-the-art research equipment\, and innovative programs to ensure that children with cancer survive and thrive.
URL:https://www.the180i.com/event/conference-sohn-monaco-2025/
LOCATION:Yacht Club de Monaco\, Quai Louis II\, Monaco
CATEGORIES:Business,Conference
ATTACH;FMTTYPE=image/jpeg:https://www.the180i.com/wp-content/uploads/2025/04/sohn-investment-conference-2025-the-180i-featured-1200x630-opt.jpg
ORGANIZER;CN="Sohn Monaco Investment Conference":MAILTO:sohn@monaco.mc
END:VEVENT
BEGIN:VEVENT
DTSTART;VALUE=DATE:20250619
DTEND;VALUE=DATE:20250622
DTSTAMP:20260421T205503
CREATED:20250513T191743Z
LAST-MODIFIED:20250513T191743Z
UID:23179-1750291200-1750550399@www.the180i.com
SUMMARY:Exhibition - "The Unique Show: Luxury Monte-Carlo"
DESCRIPTION:Monte-Carlo\, a global icon of luxury and sophistication\, will once again host The Unique Show: Luxury Monte-Carlo\, an exclusive high jewellery exhibition. From 19 to 21 June 2025\, the prestigious Sea Club Le Méridien Beach Plaza will welcome leading jewellery houses from around the world\, unveiling exceptional creations where heritage meets innovation. \nGuests can explore breathtaking collections\, meet the brands behind the designs\, and enjoy curated events\, including a charity gala\, awards night\, and a fashion show. With select dates open to the public\, this extraordinary showcase promises a unique journey into the world of luxury jewellery.
URL:https://www.the180i.com/event/exhibition-the-unique-show-luxury-monte-carlo/
LOCATION:Sea Club – Le Méridien Beach Plaza\, 20 Av. Princesse Grace\, Monaco
CATEGORIES:Business,Exhibition,Fashion,Lifestyle
ATTACH;FMTTYPE=image/jpeg:https://www.the180i.com/wp-content/uploads/2025/05/luxury-monte-carlo-1200x630-opt.jpg
ORGANIZER;CN="The Unique Show Luxury Monte-Carlo":MAILTO:guest@theuniqueshow.com
END:VEVENT
END:VCALENDAR