BEGIN:VCALENDAR
VERSION:2.0
PRODID:-//The 180i Digital Magazine - ECPv6.15.20//NONSGML v1.0//EN
CALSCALE:GREGORIAN
METHOD:PUBLISH
X-WR-CALNAME:The 180i Digital Magazine
X-ORIGINAL-URL:https://www.the180i.com
X-WR-CALDESC:Events for The 180i Digital Magazine
REFRESH-INTERVAL;VALUE=DURATION:PT1H
X-Robots-Tag:noindex
X-PUBLISHED-TTL:PT1H
BEGIN:VTIMEZONE
TZID:Europe/Paris
BEGIN:DAYLIGHT
TZOFFSETFROM:+0100
TZOFFSETTO:+0200
TZNAME:CEST
DTSTART:20240331T010000
END:DAYLIGHT
BEGIN:STANDARD
TZOFFSETFROM:+0200
TZOFFSETTO:+0100
TZNAME:CET
DTSTART:20241027T010000
END:STANDARD
BEGIN:DAYLIGHT
TZOFFSETFROM:+0100
TZOFFSETTO:+0200
TZNAME:CEST
DTSTART:20250330T010000
END:DAYLIGHT
BEGIN:STANDARD
TZOFFSETFROM:+0200
TZOFFSETTO:+0100
TZNAME:CET
DTSTART:20251026T010000
END:STANDARD
BEGIN:DAYLIGHT
TZOFFSETFROM:+0100
TZOFFSETTO:+0200
TZNAME:CEST
DTSTART:20260329T010000
END:DAYLIGHT
BEGIN:STANDARD
TZOFFSETFROM:+0200
TZOFFSETTO:+0100
TZNAME:CET
DTSTART:20261025T010000
END:STANDARD
END:VTIMEZONE
BEGIN:VEVENT
DTSTART;VALUE=DATE:20250913
DTEND;VALUE=DATE:20250914
DTSTAMP:20260423T004219
CREATED:20250514T200551Z
LAST-MODIFIED:20250605T002618Z
UID:23318-1757721600-1757807999@www.the180i.com
SUMMARY:13th Monaco Business Trade Show
DESCRIPTION:Under the High Patronage of H.S.H. the Sovereign Prince\, the 13th edition of Monaco Business will take place at the Sea Club du Méridien Beach Plaza on Thursday 18 September 2025. \nThe day will include an exhibition and a series of talks and debates\, at what is now an essential B2B event for people doing business in Monaco\, giving entrepreneurs from the Principality and all along the Riviera a golden opportunity to build their networks and meet leading experts to discuss current economic and technological challenges. Every year\, the free event is attended by more than 1\,000 visitors.
URL:https://www.the180i.com/event/13th-monaco-business-trade-show/
LOCATION:Sea Club – Le Méridien Beach Plaza\, 20 Av. Princesse Grace\, Monaco
CATEGORIES:Business,Exhibition,Featured
ATTACH;FMTTYPE=image/jpeg:https://www.the180i.com/wp-content/uploads/2025/05/monaco-business-expo-2025-1200x630-opt.jpg
END:VEVENT
BEGIN:VEVENT
DTSTART;VALUE=DATE:20250921
DTEND;VALUE=DATE:20250923
DTSTAMP:20260423T004219
CREATED:20250921T185442Z
LAST-MODIFIED:20250921T185442Z
UID:24035-1758412800-1758585599@www.the180i.com
SUMMARY:Monaco Smart & Sustainable Marina Rendezvous Sept 21 & 22
DESCRIPTION:Monaco Smart & Sustainable Marina Rendezvous 2025\, an event organized by M3 Monaco at the Yacht Club de Monaco. An event that brings together an ecosystem of entrepreneurs and startups to meet industrialists\, financials\, promotors\, marina developers and architects in the quest to find innovative solutions to promote development of virtuous marinas. \nHosted at the Yacht Club de Monaco\, the event brings together shipyards\, designers\, innovators\, and investors to rethink what’s possible for yachts over 24 meters. \nWith backing from the Prince Albert II of Monaco Foundation and partners like UBS\, Sindalah\, MB92\, and Wider Yachts\, the focus is clear: accelerate the energy transition and scale up responsible technologies. This year’s lineup is especially inspiring—40 startups and scaleups selected from over 350 applications are showcasing bold solutions that can redefine efficiency\, reduce emissions\, and future-proof the sector. \nThe highlight? The Smart Innovative Yacht Awards\, celebrating the ideas that can push yachting into a more sustainable era. Events like this remind us that collaboration is not optional—it’s the key to ensuring the seas we love remain vibrant for generations to come. \nSun\, Sept 21st from 2pm – 10:00pm\nMon\, Sept 22nd from 8am to 1:00pm \nBuy your ticket and attend the Conference: https://sustainablesmartmarina.com/passes-prices/
URL:https://www.the180i.com/event/monaco-smart-sustainable-marina-rendezvous-sept-21-22/
LOCATION:Monaco Yacht Club\, Quai Louis II\, 98000\, 98000\, Monaco
CATEGORIES:Business,Conference,Featured,Most Popular,Sustainability,Yachting
ATTACH;FMTTYPE=image/jpeg:https://www.the180i.com/wp-content/uploads/2025/09/smart-sustainable-marina-monaco-1200x630-opt.jpg
ORGANIZER;CN="M3":MAILTO:info@monacomarinamanagement.org
END:VEVENT
BEGIN:VEVENT
DTSTART;TZID=Europe/Paris:20250922T190000
DTEND;TZID=Europe/Paris:20250922T220000
DTSTAMP:20260423T004219
CREATED:20250916T164840Z
LAST-MODIFIED:20250916T165005Z
UID:23925-1758567600-1758578400@www.the180i.com
SUMMARY:Luxury Lifestyle Gala – A Prelude to the 2025 Monaco Yacht Show
DESCRIPTION:Luxury Lifestyle Gala – A Prelude to the 2025 Monaco Yacht Show \nCulture Shift Labs and Jaboy Productions present the Luxury Lifestyle Gala\, an evening where glamour meets purpose and art transforms the future. \nOn Monday\, September 22\, 2025 at Le Meridien Monaco\, guests will experience a night of dining\, fashion\, and performance as football icon Ronaldinho and Japanese contemporary artist MAGO Nagasaka unveil a groundbreaking collaboration. Their eco-luxury art pieces\, created from electronic waste\, highlight a bold vision for sustainability and cultural impact. \nHighlights include: \n\nPremiere of MAGO Nagasaka’s eco-luxury art pieces\nFashion show by Maison Angel Ann\nDJ set by TMP DJ\nLive violin performance by Margherita Valente\nBallet performance by Joy Womack\n\nEvent Details \n\nDate: Monday\, September 22\, 2025\nTime: 7:00 PM – 10:00 PM\nLocation: Le Meridien Monaco\nAttire: Cocktail Attire\n\nProceeds will support sustainable development in Ghana’s Agbogbloshie community\, one of the world’s most critical e-waste sites. \nJoin us for a night where glamour meets purpose\, and where art\, sport\, and culture come together to create lasting impact. \nWhere glamour meets purpose. 💫 \nGet your ticket: Jaboy Productions Presents the Luxury Lifestyle Gala Prelude to the Monaco Yacht Show
URL:https://www.the180i.com/event/luxury-lifestyle-gala-a-prelude-to-the-2025-monaco-yacht-show/
LOCATION:The Méridien Beach Plaza\, 22\, avenue Princesse Grace\, Monaco
CATEGORIES:Balls and Galas,Business,Celebrities,Culture & Arts,Fashion,Lifestyle,Most Popular
ATTACH;FMTTYPE=image/jpeg:https://www.the180i.com/wp-content/uploads/2025/09/jaboy-productions-mys-luxury-lifestyle-gala-event-opt.jpg
END:VEVENT
END:VCALENDAR