BEGIN:VCALENDAR
VERSION:2.0
PRODID:-//The 180i Digital Magazine - ECPv6.15.20//NONSGML v1.0//EN
CALSCALE:GREGORIAN
METHOD:PUBLISH
X-WR-CALNAME:The 180i Digital Magazine
X-ORIGINAL-URL:https://www.the180i.com
X-WR-CALDESC:Events for The 180i Digital Magazine
REFRESH-INTERVAL;VALUE=DURATION:PT1H
X-Robots-Tag:noindex
X-PUBLISHED-TTL:PT1H
BEGIN:VTIMEZONE
TZID:Europe/Paris
BEGIN:DAYLIGHT
TZOFFSETFROM:+0100
TZOFFSETTO:+0200
TZNAME:CEST
DTSTART:20240331T010000
END:DAYLIGHT
BEGIN:STANDARD
TZOFFSETFROM:+0200
TZOFFSETTO:+0100
TZNAME:CET
DTSTART:20241027T010000
END:STANDARD
BEGIN:DAYLIGHT
TZOFFSETFROM:+0100
TZOFFSETTO:+0200
TZNAME:CEST
DTSTART:20250330T010000
END:DAYLIGHT
BEGIN:STANDARD
TZOFFSETFROM:+0200
TZOFFSETTO:+0100
TZNAME:CET
DTSTART:20251026T010000
END:STANDARD
BEGIN:DAYLIGHT
TZOFFSETFROM:+0100
TZOFFSETTO:+0200
TZNAME:CEST
DTSTART:20260329T010000
END:DAYLIGHT
BEGIN:STANDARD
TZOFFSETFROM:+0200
TZOFFSETTO:+0100
TZNAME:CET
DTSTART:20261025T010000
END:STANDARD
END:VTIMEZONE
BEGIN:VEVENT
DTSTART;VALUE=DATE:20250129
DTEND;VALUE=DATE:20250206
DTSTAMP:20260422T065334
CREATED:20250424T080439Z
LAST-MODIFIED:20250424T080439Z
UID:22605-1738108800-1738799999@www.the180i.com
SUMMARY:Sport - "Rallye Monte-Carlo Historique"
DESCRIPTION:From Wednesday 29 January to Wednesday 5 February\, Principality of Monaco\nJust three days after the climax of the WRC event\, the focus will shift to the 27th Rallye Monte-Carlo Historique. In keeping with tradition\, the competitors given the green light to start the rally will be faced with a highly demanding route featuring some of the historic special stages that forged the legend of the “Monte-Carlo”. This classic version of the rally is reserved for cars that raced in Monte-Carlo Rallies between 1911 and 1983.
URL:https://www.the180i.com/event/sport-rallye-monte-carlo-historique/
CATEGORIES:Cars
ORGANIZER;CN="Automobile Club de Monaco":MAILTO:info@acm.mc
END:VEVENT
END:VCALENDAR