BEGIN:VCALENDAR
VERSION:2.0
PRODID:-//The 180i Digital Magazine - ECPv6.15.20//NONSGML v1.0//EN
CALSCALE:GREGORIAN
METHOD:PUBLISH
X-WR-CALNAME:The 180i Digital Magazine
X-ORIGINAL-URL:https://www.the180i.com
X-WR-CALDESC:Events for The 180i Digital Magazine
REFRESH-INTERVAL;VALUE=DURATION:PT1H
X-Robots-Tag:noindex
X-PUBLISHED-TTL:PT1H
BEGIN:VTIMEZONE
TZID:Europe/Paris
BEGIN:DAYLIGHT
TZOFFSETFROM:+0100
TZOFFSETTO:+0200
TZNAME:CEST
DTSTART:20240331T010000
END:DAYLIGHT
BEGIN:STANDARD
TZOFFSETFROM:+0200
TZOFFSETTO:+0100
TZNAME:CET
DTSTART:20241027T010000
END:STANDARD
BEGIN:DAYLIGHT
TZOFFSETFROM:+0100
TZOFFSETTO:+0200
TZNAME:CEST
DTSTART:20250330T010000
END:DAYLIGHT
BEGIN:STANDARD
TZOFFSETFROM:+0200
TZOFFSETTO:+0100
TZNAME:CET
DTSTART:20251026T010000
END:STANDARD
BEGIN:DAYLIGHT
TZOFFSETFROM:+0100
TZOFFSETTO:+0200
TZNAME:CEST
DTSTART:20260329T010000
END:DAYLIGHT
BEGIN:STANDARD
TZOFFSETFROM:+0200
TZOFFSETTO:+0100
TZNAME:CET
DTSTART:20261025T010000
END:STANDARD
END:VTIMEZONE
BEGIN:VEVENT
DTSTART;VALUE=DATE:20250719
DTEND;VALUE=DATE:20250721
DTSTAMP:20260421T203736
CREATED:20250513T210901Z
LAST-MODIFIED:20250513T210901Z
UID:23239-1752883200-1753055999@www.the180i.com
SUMMARY:Event - "5th FIAT 500 Monaco International Meeting"
DESCRIPTION:The 5th FIAT 500 Monaco International Meeting will bring together classic Fiat 500s from around the world.
URL:https://www.the180i.com/event/event-5th-fiat-500-monaco-international-meeting/
LOCATION:Port Hercule de Monaco\, Monaco
CATEGORIES:Cars,Family Friendly,Sports
ATTACH;FMTTYPE=image/jpeg:https://www.the180i.com/wp-content/uploads/2025/05/fiat-500-club-1200x630-opt-1.jpg
ORGANIZER;CN="Club 500 Monte-Carlo":MAILTO:club500@monte-carlo.mc
END:VEVENT
END:VCALENDAR