BEGIN:VCALENDAR
VERSION:2.0
PRODID:-//The 180i Digital Magazine - ECPv6.15.20//NONSGML v1.0//EN
CALSCALE:GREGORIAN
METHOD:PUBLISH
X-WR-CALNAME:The 180i Digital Magazine
X-ORIGINAL-URL:https://www.the180i.com
X-WR-CALDESC:Events for The 180i Digital Magazine
REFRESH-INTERVAL;VALUE=DURATION:PT1H
X-Robots-Tag:noindex
X-PUBLISHED-TTL:PT1H
BEGIN:VTIMEZONE
TZID:Europe/Paris
BEGIN:DAYLIGHT
TZOFFSETFROM:+0100
TZOFFSETTO:+0200
TZNAME:CEST
DTSTART:20240331T010000
END:DAYLIGHT
BEGIN:STANDARD
TZOFFSETFROM:+0200
TZOFFSETTO:+0100
TZNAME:CET
DTSTART:20241027T010000
END:STANDARD
BEGIN:DAYLIGHT
TZOFFSETFROM:+0100
TZOFFSETTO:+0200
TZNAME:CEST
DTSTART:20250330T010000
END:DAYLIGHT
BEGIN:STANDARD
TZOFFSETFROM:+0200
TZOFFSETTO:+0100
TZNAME:CET
DTSTART:20251026T010000
END:STANDARD
BEGIN:DAYLIGHT
TZOFFSETFROM:+0100
TZOFFSETTO:+0200
TZNAME:CEST
DTSTART:20260329T010000
END:DAYLIGHT
BEGIN:STANDARD
TZOFFSETFROM:+0200
TZOFFSETTO:+0100
TZNAME:CET
DTSTART:20261025T010000
END:STANDARD
END:VTIMEZONE
BEGIN:VEVENT
DTSTART;TZID=Europe/Paris:20250610T183000
DTEND;TZID=Europe/Paris:20250610T210000
DTSTAMP:20260421T121612
CREATED:20250513T190623Z
LAST-MODIFIED:20250605T001906Z
UID:23174-1749580200-1749589200@www.the180i.com
SUMMARY:OPMC - "Tribute to Ravel" June 10th
DESCRIPTION:Monte-Carlo Philharmonic Orchestra\, 2024/2025 season\, under the Presidency of H.R.H. the Princess of Hanover – “Tribute to Ravel”. Musicians of the OPMC. Programme: RAMEAU\, JADIN\, RAVEL.
URL:https://www.the180i.com/event/opmc-tribute-to-ravel-june-10th/
LOCATION:Maison de France\, 42\, rue Grimaldi\, Monaco
CATEGORIES:Concerts,Culture & Arts,Music,Seasonal and Ongoing
ATTACH;FMTTYPE=image/jpeg:https://www.the180i.com/wp-content/uploads/2025/05/opmc-1200x630-opt.jpg
END:VEVENT
END:VCALENDAR