BEGIN:VCALENDAR
VERSION:2.0
PRODID:-//The 180i Digital Magazine - ECPv6.15.20//NONSGML v1.0//EN
CALSCALE:GREGORIAN
METHOD:PUBLISH
X-WR-CALNAME:The 180i Digital Magazine
X-ORIGINAL-URL:https://www.the180i.com
X-WR-CALDESC:Events for The 180i Digital Magazine
REFRESH-INTERVAL;VALUE=DURATION:PT1H
X-Robots-Tag:noindex
X-PUBLISHED-TTL:PT1H
BEGIN:VTIMEZONE
TZID:Europe/Paris
BEGIN:DAYLIGHT
TZOFFSETFROM:+0100
TZOFFSETTO:+0200
TZNAME:CEST
DTSTART:20240331T010000
END:DAYLIGHT
BEGIN:STANDARD
TZOFFSETFROM:+0200
TZOFFSETTO:+0100
TZNAME:CET
DTSTART:20241027T010000
END:STANDARD
BEGIN:DAYLIGHT
TZOFFSETFROM:+0100
TZOFFSETTO:+0200
TZNAME:CEST
DTSTART:20250330T010000
END:DAYLIGHT
BEGIN:STANDARD
TZOFFSETFROM:+0200
TZOFFSETTO:+0100
TZNAME:CET
DTSTART:20251026T010000
END:STANDARD
BEGIN:DAYLIGHT
TZOFFSETFROM:+0100
TZOFFSETTO:+0200
TZNAME:CEST
DTSTART:20260329T010000
END:DAYLIGHT
BEGIN:STANDARD
TZOFFSETFROM:+0200
TZOFFSETTO:+0100
TZNAME:CET
DTSTART:20261025T010000
END:STANDARD
END:VTIMEZONE
BEGIN:VEVENT
DTSTART;VALUE=DATE:20250323
DTEND;VALUE=DATE:20250325
DTSTAMP:20260421T173144
CREATED:20250424T083729Z
LAST-MODIFIED:20250425T025704Z
UID:22644-1742688000-1742860799@www.the180i.com
SUMMARY:Conference - "Monaco Blue Initiative"
DESCRIPTION:Sunday 23 and Monday 24 March 2025\, Musée Océanographique de Monaco\nThe Monaco Blue Initiative is a unique platform for discussion and debate. Every year\, leading Ocean stakeholders are invited to talk in concrete terms about the current and future challenges of global Ocean management and conservation.
URL:https://www.the180i.com/event/conference-monaco-blue-initiative/
LOCATION:Oceanographic Museum of Monaco\, Avenue Saint-Martin\, Monaco
CATEGORIES:Business,Conference,Innovation & Technology,Sustainability
ATTACH;FMTTYPE=image/jpeg:https://www.the180i.com/wp-content/uploads/2025/04/monaco-blue-initiative-events-the-180i-featured-1200x630-opt.jpg
END:VEVENT
END:VCALENDAR