BEGIN:VCALENDAR
VERSION:2.0
PRODID:-//The 180i Digital Magazine - ECPv6.15.20//NONSGML v1.0//EN
CALSCALE:GREGORIAN
METHOD:PUBLISH
X-WR-CALNAME:The 180i Digital Magazine
X-ORIGINAL-URL:https://www.the180i.com
X-WR-CALDESC:Events for The 180i Digital Magazine
REFRESH-INTERVAL;VALUE=DURATION:PT1H
X-Robots-Tag:noindex
X-PUBLISHED-TTL:PT1H
BEGIN:VTIMEZONE
TZID:Europe/Paris
BEGIN:DAYLIGHT
TZOFFSETFROM:+0100
TZOFFSETTO:+0200
TZNAME:CEST
DTSTART:20240331T010000
END:DAYLIGHT
BEGIN:STANDARD
TZOFFSETFROM:+0200
TZOFFSETTO:+0100
TZNAME:CET
DTSTART:20241027T010000
END:STANDARD
BEGIN:DAYLIGHT
TZOFFSETFROM:+0100
TZOFFSETTO:+0200
TZNAME:CEST
DTSTART:20250330T010000
END:DAYLIGHT
BEGIN:STANDARD
TZOFFSETFROM:+0200
TZOFFSETTO:+0100
TZNAME:CET
DTSTART:20251026T010000
END:STANDARD
BEGIN:DAYLIGHT
TZOFFSETFROM:+0100
TZOFFSETTO:+0200
TZNAME:CEST
DTSTART:20260329T010000
END:DAYLIGHT
BEGIN:STANDARD
TZOFFSETFROM:+0200
TZOFFSETTO:+0100
TZNAME:CET
DTSTART:20261025T010000
END:STANDARD
END:VTIMEZONE
BEGIN:VEVENT
DTSTART;VALUE=DATE:20250508
DTEND;VALUE=DATE:20250510
DTSTAMP:20260421T143546
CREATED:20250513T174502Z
LAST-MODIFIED:20250513T174608Z
UID:23147-1746662400-1746835199@www.the180i.com
SUMMARY:Monaco INDEMER Symposium
DESCRIPTION:Over the last forty years\, the way we use the sea has changed radically. While fishing and sailing continue to dominate\, scientific and technological advances have paved the way for new marine activities\, in turn prompting vital changes to laws and ocean management policies. \nThe symposium\, with INDEMER as its starting point\, will bring together experts in a range of fields to discuss these developments\, combining the hard and soft sciences to look at how international law can adapt to new marine activities whilst tackling key contemporary issues.
URL:https://www.the180i.com/event/monaco-indemer-symposium/
LOCATION:Sea Club – Le Méridien Beach Plaza\, 20 Av. Princesse Grace\, Monaco
CATEGORIES:Conference,Sustainability
END:VEVENT
BEGIN:VEVENT
DTSTART;TZID=Europe/Paris:20250514T140000
DTEND;TZID=Europe/Paris:20250514T193000
DTSTAMP:20260421T143546
CREATED:20250514T110618Z
LAST-MODIFIED:20250514T111130Z
UID:23257-1747231200-1747251000@www.the180i.com
SUMMARY:Monaco Ocean Protection Challenge 2025 – Grand Finale
DESCRIPTION:Monaco Ocean Protection Challenge 2025 – Grand Finale 🌊 \nJoin us on 14 May 2025\, from 2:00 PM to 7:30 PM\, at the Oceanographic Institute of Monaco for the 8th Edition Grand Finale! 🌍 \nDiscover innovative projects dedicated to ocean conservation\, presented by inspiring changemakers from around the world. \n🗓️ Agenda:\n🔹 2:00 PM | Finalist Presentations\n🔹 5:00 PM | Awards Ceremony\n🔹 6:15 PM | Networking Cocktail \nLet’s celebrate innovation\, sustainability\, and action for our oceans! 💙 \n🔗 Register: https://my.weezevent.com/monaco-ocean-protection-challenge-grand-finale-2025
URL:https://www.the180i.com/event/monaco-ocean-protection-challenge-2025-grand-finale/
LOCATION:Oceanographic Museum of Monaco\, Avenue Saint-Martin\, Monaco
CATEGORIES:Conference,Featured,Innovation & Technology,Sustainability
ATTACH;FMTTYPE=image/jpeg:https://www.the180i.com/wp-content/uploads/2025/05/monaco-ocean-protection-challenge-finale-1200x630-opt.jpg
END:VEVENT
BEGIN:VEVENT
DTSTART;TZID=Europe/Paris:20250518T130000
DTEND;TZID=Europe/Paris:20250518T220000
DTSTAMP:20260421T143546
CREATED:20250512T130617Z
LAST-MODIFIED:20250512T130617Z
UID:23091-1747573200-1747605600@www.the180i.com
SUMMARY:The SDG Impact Villa lights up Cannes with purpose & power
DESCRIPTION:Cannes\, 18 May 2025 — In a sun-soaked private villa overlooking the Côte d’Azur\, 200 global changemakers\, artists\, and innovators will gather for The SDG Impact Villa — during the Cannes Film Festival. \nThe SDG Impact Villa offers an unforgettable afternoon and evening of inspiration\, connection\, and celebration—all in support of the Sustainable Development Goals\, at a stunning private villa\, this invite-only gathering brings together change-makers\, visionaries\, and party lovers for a unique blend of purpose and play. \nThe all-day affair blends high-impact dialogue with high-end experiences. Five dynamic SDG-themed panels will feature thought leaders such as Phurba Khen Rinpoche Lama\, Michael Terpin\, Charlie Shrem\, Valentina Castellani-Quinn\, Danielle Turkov Wilson\, Scott Page\, and others — diving deep into urgent issues from blockchain innovation to gender equity and climate resilience. \nGuests will be treated to a social impact film screening and a spiritual peace blessing by Phurba Khen Rinpoche Lama\, bridging mindfulness and mission in a rare moment of serenity. \nAs the golden hour arrives\, the atmosphere will shift to celebration — DJ Donn Healy (Ibiza) will take over the decks while gourmet fare from The Lake Or Noir and an open bar featuring top-shelf cocktails set the tone for an unforgettable evening. \nOne of the standout experiences? Futuristic AI twin shoots powered by Angel Twin/Twin Protocol\, offering guests a glimpse into the next wave of digital identity tech. \nCo-hosted by a visionary team — including Nick Baci\, Dr. Harry Malinski\, Mitchell Ruiz\, Morielle Harris\, and Benn Wiebe — the SDG Impact Villa proves that progress and pleasure can go hand in hand.
URL:https://www.the180i.com/event/the-sdg-impact-villa-lights-up-cannes-with-purpose-power/
LOCATION:Register for the Venue
CATEGORIES:Business,Celebrities,Cocktails & Aperitifs,Conference,Featured,Festivals,Sustainability
ATTACH;FMTTYPE=image/jpeg:https://www.the180i.com/wp-content/uploads/2025/05/sdg-impact-conference-1200x630-opt.jpg
END:VEVENT
END:VCALENDAR