BEGIN:VCALENDAR
VERSION:2.0
PRODID:-//The 180i Digital Magazine - ECPv6.15.20//NONSGML v1.0//EN
CALSCALE:GREGORIAN
METHOD:PUBLISH
X-WR-CALNAME:The 180i Digital Magazine
X-ORIGINAL-URL:https://www.the180i.com
X-WR-CALDESC:Events for The 180i Digital Magazine
REFRESH-INTERVAL;VALUE=DURATION:PT1H
X-Robots-Tag:noindex
X-PUBLISHED-TTL:PT1H
BEGIN:VTIMEZONE
TZID:Europe/Paris
BEGIN:DAYLIGHT
TZOFFSETFROM:+0100
TZOFFSETTO:+0200
TZNAME:CEST
DTSTART:20240331T010000
END:DAYLIGHT
BEGIN:STANDARD
TZOFFSETFROM:+0200
TZOFFSETTO:+0100
TZNAME:CET
DTSTART:20241027T010000
END:STANDARD
BEGIN:DAYLIGHT
TZOFFSETFROM:+0100
TZOFFSETTO:+0200
TZNAME:CEST
DTSTART:20250330T010000
END:DAYLIGHT
BEGIN:STANDARD
TZOFFSETFROM:+0200
TZOFFSETTO:+0100
TZNAME:CET
DTSTART:20251026T010000
END:STANDARD
BEGIN:DAYLIGHT
TZOFFSETFROM:+0100
TZOFFSETTO:+0200
TZNAME:CEST
DTSTART:20260329T010000
END:DAYLIGHT
BEGIN:STANDARD
TZOFFSETFROM:+0200
TZOFFSETTO:+0100
TZNAME:CET
DTSTART:20261025T010000
END:STANDARD
END:VTIMEZONE
BEGIN:VEVENT
DTSTART;TZID=Europe/Paris:20250514T140000
DTEND;TZID=Europe/Paris:20250514T193000
DTSTAMP:20260421T160009
CREATED:20250514T110618Z
LAST-MODIFIED:20250514T111130Z
UID:23257-1747231200-1747251000@www.the180i.com
SUMMARY:Monaco Ocean Protection Challenge 2025 – Grand Finale
DESCRIPTION:Monaco Ocean Protection Challenge 2025 – Grand Finale 🌊 \nJoin us on 14 May 2025\, from 2:00 PM to 7:30 PM\, at the Oceanographic Institute of Monaco for the 8th Edition Grand Finale! 🌍 \nDiscover innovative projects dedicated to ocean conservation\, presented by inspiring changemakers from around the world. \n🗓️ Agenda:\n🔹 2:00 PM | Finalist Presentations\n🔹 5:00 PM | Awards Ceremony\n🔹 6:15 PM | Networking Cocktail \nLet’s celebrate innovation\, sustainability\, and action for our oceans! 💙 \n🔗 Register: https://my.weezevent.com/monaco-ocean-protection-challenge-grand-finale-2025
URL:https://www.the180i.com/event/monaco-ocean-protection-challenge-2025-grand-finale/
LOCATION:Oceanographic Museum of Monaco\, Avenue Saint-Martin\, Monaco
CATEGORIES:Conference,Featured,Innovation & Technology,Sustainability
ATTACH;FMTTYPE=image/jpeg:https://www.the180i.com/wp-content/uploads/2025/05/monaco-ocean-protection-challenge-finale-1200x630-opt.jpg
END:VEVENT
END:VCALENDAR