BEGIN:VCALENDAR
VERSION:2.0
PRODID:-//The 180i Digital Magazine - ECPv6.15.20//NONSGML v1.0//EN
CALSCALE:GREGORIAN
METHOD:PUBLISH
X-ORIGINAL-URL:https://www.the180i.com
X-WR-CALDESC:Events for The 180i Digital Magazine
REFRESH-INTERVAL;VALUE=DURATION:PT1H
X-Robots-Tag:noindex
X-PUBLISHED-TTL:PT1H
BEGIN:VTIMEZONE
TZID:Europe/Paris
BEGIN:DAYLIGHT
TZOFFSETFROM:+0100
TZOFFSETTO:+0200
TZNAME:CEST
DTSTART:20240331T010000
END:DAYLIGHT
BEGIN:STANDARD
TZOFFSETFROM:+0200
TZOFFSETTO:+0100
TZNAME:CET
DTSTART:20241027T010000
END:STANDARD
BEGIN:DAYLIGHT
TZOFFSETFROM:+0100
TZOFFSETTO:+0200
TZNAME:CEST
DTSTART:20250330T010000
END:DAYLIGHT
BEGIN:STANDARD
TZOFFSETFROM:+0200
TZOFFSETTO:+0100
TZNAME:CET
DTSTART:20251026T010000
END:STANDARD
BEGIN:DAYLIGHT
TZOFFSETFROM:+0100
TZOFFSETTO:+0200
TZNAME:CEST
DTSTART:20260329T010000
END:DAYLIGHT
BEGIN:STANDARD
TZOFFSETFROM:+0200
TZOFFSETTO:+0100
TZNAME:CET
DTSTART:20261025T010000
END:STANDARD
END:VTIMEZONE
BEGIN:VEVENT
DTSTART;TZID=Europe/Paris:20250612T160000
DTEND;TZID=Europe/Paris:20250612T190000
DTSTAMP:20260421T202448
CREATED:20250605T163511Z
LAST-MODIFIED:20250605T164314Z
UID:23759-1749744000-1749754800@www.the180i.com
SUMMARY:UNOC3 Side Event: Turning Ambition into Action - River Cleanup Innovations\, Nice June 12
DESCRIPTION:Turning Ambition into Action: River Cleanup Innovations for a Healthy Ocean by The Ocean Cleanup. A side event during the Third UN Ocean Conference.\nJoin us at UNOC3 in Nice on June 12\, from 16h00 onwards\, for two exciting opportunities. \nSide event: Dr. Matthias Egger\, Director of Environmental and Social Affairs at The Ocean Cleanup\, will discuss the impact of river cleanup on cities’ resilience\, biodiversity protection\, and the blue economy. He will be joined by a high-level\, cross-sectoral panel with UNDP\, IUCN\, the Republic of Guatemala\, ADB\, and ICLEI. \nDetails:\nDate: June 12\, 2025\nTime: 16h00 – 17h00\nLocation: Salon Riviera B\, Anantara Plaza Nice Hotel\, 12 Av. de Verdun\, 06000 Nice\, France \nRegistration form: https://forms.office.com/e/e9EbZ9yM72 \nReception: After the side event\, The Ocean Cleanup is hosting a reception – an opportunity to broaden connections and explore new partnerships. Here\, ocean champions from across the innovation ecosystem – from public to private spheres – will delve into the latest technological developments in ocean conservation. \nThe reception will feature a keynote speech by Boyan Slat\, our Founder and CEO\, with the latest updates on our ocean and river strategy. \nDetails:\nDate: June 12\, 2025\nTime: 17h15 – 19h00\nLocation: Salon Riviera B\, Anantara Plaza Nice Hotel\, 12 Av. de Verdun\, 06000 Nice\, France. \nRegistration form: https://forms.office.com/e/dbKvDm7Bp0
URL:https://www.the180i.com/event/unoc3-side-event-turning-ambition-into-action-river-cleanup-innovations-nice-june-12/
CATEGORIES:Conference,Featured,Innovation & Technology,Learn,Most Popular,Sustainability
ATTACH;FMTTYPE=image/jpeg:https://www.the180i.com/wp-content/uploads/2025/06/river-cleanup-1200x630-opt.jpg
END:VEVENT
BEGIN:VEVENT
DTSTART;VALUE=DATE:20250704
DTEND;VALUE=DATE:20250707
DTSTAMP:20260421T202448
CREATED:20250513T194635Z
LAST-MODIFIED:20250513T194635Z
UID:23196-1751587200-1751846399@www.the180i.com
SUMMARY:Event - "Jumping International de Monte-Carlo"
DESCRIPTION:Port Hercule will be transformed into an equestrian course for the Jumping International de Monte-Carlo. For over 17 years\, this essential event has been bringing the world’s top riders to the Principality\, nestled below the ramparts of the Prince’s Palace.
URL:https://www.the180i.com/event/event-jumping-international-de-monte-carlo/
LOCATION:Port Hercule de Monaco\, Monaco
CATEGORIES:Family Friendly,Featured,Grand Rendez-vous,Sports
ATTACH;FMTTYPE=image/jpeg:https://www.the180i.com/wp-content/uploads/2025/05/monaco-jumping-international-1200x630-3-opt.jpg
END:VEVENT
BEGIN:VEVENT
DTSTART;VALUE=DATE:20250910
DTEND;VALUE=DATE:20250914
DTSTAMP:20260421T202448
CREATED:20250514T195713Z
LAST-MODIFIED:20250514T195713Z
UID:23313-1757462400-1757807999@www.the180i.com
SUMMARY:Event - "Monaco Classic Week – La Belle Classe"
DESCRIPTION:The only event of its kind in the world\, every two years Monaco Classic Week celebrates the excellence of our maritime heritage by bringing together traditional sailing yachts and exceptional powerboats. \nThis prestigious event\, heir to the legendary motorboat meetings of 1904\, reflects the Yacht Club de Monaco’s deep commitment to nautical history. \nIt is distinguished by its exclusive character\, bringing together a remarkable fleet of the finest classic sailing yachts\, vintage motor yachts\, vintage motorboats and\, for the last few editions\, elegant 12′ Dinghies.
URL:https://www.the180i.com/event/event-monaco-classic-week-la-belle-classe/
LOCATION:Bay of Monaco\, Monaco
CATEGORIES:Featured,Lifestyle,Sports,Yachting
ATTACH;FMTTYPE=image/jpeg:https://www.the180i.com/wp-content/uploads/2025/05/monaco-classic-week-1200x630-twiga-opt.jpg
END:VEVENT
BEGIN:VEVENT
DTSTART;VALUE=DATE:20250913
DTEND;VALUE=DATE:20250914
DTSTAMP:20260421T202448
CREATED:20250514T200551Z
LAST-MODIFIED:20250605T002618Z
UID:23318-1757721600-1757807999@www.the180i.com
SUMMARY:13th Monaco Business Trade Show
DESCRIPTION:Under the High Patronage of H.S.H. the Sovereign Prince\, the 13th edition of Monaco Business will take place at the Sea Club du Méridien Beach Plaza on Thursday 18 September 2025. \nThe day will include an exhibition and a series of talks and debates\, at what is now an essential B2B event for people doing business in Monaco\, giving entrepreneurs from the Principality and all along the Riviera a golden opportunity to build their networks and meet leading experts to discuss current economic and technological challenges. Every year\, the free event is attended by more than 1\,000 visitors.
URL:https://www.the180i.com/event/13th-monaco-business-trade-show/
LOCATION:Sea Club – Le Méridien Beach Plaza\, 20 Av. Princesse Grace\, Monaco
CATEGORIES:Business,Exhibition,Featured
ATTACH;FMTTYPE=image/jpeg:https://www.the180i.com/wp-content/uploads/2025/05/monaco-business-expo-2025-1200x630-opt.jpg
END:VEVENT
BEGIN:VEVENT
DTSTART;VALUE=DATE:20250921
DTEND;VALUE=DATE:20250923
DTSTAMP:20260421T202448
CREATED:20250921T185442Z
LAST-MODIFIED:20250921T185442Z
UID:24035-1758412800-1758585599@www.the180i.com
SUMMARY:Monaco Smart & Sustainable Marina Rendezvous Sept 21 & 22
DESCRIPTION:Monaco Smart & Sustainable Marina Rendezvous 2025\, an event organized by M3 Monaco at the Yacht Club de Monaco. An event that brings together an ecosystem of entrepreneurs and startups to meet industrialists\, financials\, promotors\, marina developers and architects in the quest to find innovative solutions to promote development of virtuous marinas. \nHosted at the Yacht Club de Monaco\, the event brings together shipyards\, designers\, innovators\, and investors to rethink what’s possible for yachts over 24 meters. \nWith backing from the Prince Albert II of Monaco Foundation and partners like UBS\, Sindalah\, MB92\, and Wider Yachts\, the focus is clear: accelerate the energy transition and scale up responsible technologies. This year’s lineup is especially inspiring—40 startups and scaleups selected from over 350 applications are showcasing bold solutions that can redefine efficiency\, reduce emissions\, and future-proof the sector. \nThe highlight? The Smart Innovative Yacht Awards\, celebrating the ideas that can push yachting into a more sustainable era. Events like this remind us that collaboration is not optional—it’s the key to ensuring the seas we love remain vibrant for generations to come. \nSun\, Sept 21st from 2pm – 10:00pm\nMon\, Sept 22nd from 8am to 1:00pm \nBuy your ticket and attend the Conference: https://sustainablesmartmarina.com/passes-prices/
URL:https://www.the180i.com/event/monaco-smart-sustainable-marina-rendezvous-sept-21-22/
LOCATION:Monaco Yacht Club\, Quai Louis II\, 98000\, 98000\, Monaco
CATEGORIES:Business,Conference,Featured,Most Popular,Sustainability,Yachting
ATTACH;FMTTYPE=image/jpeg:https://www.the180i.com/wp-content/uploads/2025/09/smart-sustainable-marina-monaco-1200x630-opt.jpg
ORGANIZER;CN="M3":MAILTO:info@monacomarinamanagement.org
END:VEVENT
BEGIN:VEVENT
DTSTART;VALUE=DATE:20250924
DTEND;VALUE=DATE:20250928
DTSTAMP:20260421T202448
CREATED:20250424T072044Z
LAST-MODIFIED:20250605T002534Z
UID:22569-1758672000-1759017599@www.the180i.com
SUMMARY:Event - "34th Monaco Yacht Show"
DESCRIPTION:The Monaco Yacht Show is an iconic blend of exclusiveness\, excellence\, and innovation. Over the years\, it has forged a reputation as the superyacht industry’s most essential meeting. The exhibitors include 500 major industry firms\, each rigorously selected in keeping with event’s ultra-high-end positioning\, and 105 exceptional super & megayachts are proudly displayed every year.
URL:https://www.the180i.com/event/monaco-yacht-show/
LOCATION:Port Hercule de Monaco\, Monaco
CATEGORIES:Conference,Featured,Grand Rendez-vous,Sports,Sustainability,Yachting
ATTACH;FMTTYPE=image/jpeg:https://www.the180i.com/wp-content/uploads/2025/05/monaco-yacht-show-1200x630-opt.jpg
ORGANIZER;CN="Monaco Yacht Show":MAILTO:info@monacoyachtshow.mc
END:VEVENT
BEGIN:VEVENT
DTSTART;TZID=Europe/Paris:20250924T140000
DTEND;TZID=Europe/Paris:20250926T200000
DTSTAMP:20260421T202448
CREATED:20250921T131559Z
LAST-MODIFIED:20250921T131722Z
UID:24024-1758722400-1758916800@www.the180i.com
SUMMARY:Timeless Elegance: Art and Luxury Fair Monaco 2025
DESCRIPTION:September 24 to 26\, 2025 The Hotel Metropole\, Monte-Carlo\nUnder the high patronage of Prince Albert II of Monaco\nThe annual Art and Luxury Fair will be hosted at The Metropole Hotel\, located in the Carré d’Or\, in the heart of Monte Carlo. \nAdmire the latest trends in art\, lifestyle\, and fashion. Well-known brands showcase their latest products\, and leading figures from the art world exhibit their work. \nThe Dutch Design section promises to forge a deeper cultural and artistic connection between the Netherlands and Monaco. \nThis is the ultimate high-end fair where experience is key. Artists guide visitors through the creative process\, with the initiative to connect the makers\, who represent the highest craftsmanship in the Netherlands\, directly with the public. \nExhibitors include:• Atelier IDDI • Cult • Daphne Du Barry • The Parme Design • Elim van Delft • Hayo Sol • ILNI • Jack Liemburg • Distillerie de Monaco • Lotje Bosch Design • Maison Perrier-Jouët • Zantos Interiors & Exterior • Nora Bonavera • TS Holding • Monacqua • Claudio Sacchi • Studio Van Delft (SVD) \nJoin the Art and Luxury Fair at the Hotel Metropole\, where the passion for artistry and the beauty of art connect us all. \nOpen to the public from 14:00 to 17:00\, the fair also hosts exclusive evening gatherings (18:00–20:00) with performances\, masterclasses\, and lectures—bringing together artistry\, lifestyle\, and innovation in an intimate setting. \n\nArt and Luxury is an initiative of Annette Wijdom.\nHonorary creative contributor: HRH Margarita Princess de Bourbon de Parme.
URL:https://www.the180i.com/event/timeless-elegance-art-and-luxury-fair-monaco-2025/
LOCATION:The Metropole Hotel\, 4 Av. de la Madone\, 98000\, Monaco
CATEGORIES:Cocktails & Aperitifs,Culture & Arts,Exhibition,Featured,Lifestyle,Most Popular
ATTACH;FMTTYPE=image/jpeg:https://www.the180i.com/wp-content/uploads/2025/09/art-and-luxury-fair-monaco-1200x630-opt.jpg
ORGANIZER;CN="Annette Wijdom":MAILTO:info@artandluxuryfair.com
END:VEVENT
BEGIN:VEVENT
DTSTART;TZID=Europe/Paris:20251002T190000
DTEND;TZID=Europe/Paris:20251002T190000
DTSTAMP:20260421T202448
CREATED:20250930T060851Z
LAST-MODIFIED:20250930T060946Z
UID:24130-1759431600-1759431600@www.the180i.com
SUMMARY:Talk by "Martin Doyle"\, Books Editor at The Irish Times at Princess Grace Library\, Oct 2
DESCRIPTION:Thursday 2nd October 2025 at 7pm\n\nTalk by Martin Doyle\, Books Editor at The Irish Times \n\n\nJoin us for this insightful talk by this experienced journalist and renowned author\, who was born in Northern Ireland and whose career in the U.K. and Ireland provides a deep understanding of the Irish diaspora and their influence and impact. \nMartin will offer insights into the art of the interview\, writers’ personalities\, tradition and trends\, and give his assessment of the best Irish fiction of the past 50 years\, with a particular focus on Irish fiction set abroad. \n\nPrice:\nStandard ticket: 10.99 euro\nStudent ticket: 5.99 euro \nEvents at the Princess Grace Irish Library get booked up ahead of time. Be sure to buy your ticket in advance. \nhttps://www.pgil.mc/lectures/talk-by-literary-editor-martin-doyle
URL:https://www.the180i.com/event/talk-by-martin-doyle-books-editor-at-the-irish-times-at-princess-grace-library-oct-2/
LOCATION:Princess Grace Irish LIbrary\, 9 rue Princesse Marie-de-Lorraine\, Monaco
CATEGORIES:Cocktails & Aperitifs,Culture & Arts,Entertainment,Family Friendly,Featured,Most Popular
ATTACH;FMTTYPE=image/jpeg:https://www.the180i.com/wp-content/uploads/2025/09/pgil-martin-doyle-talk-banner-1200x630-opt.jpg
END:VEVENT
BEGIN:VEVENT
DTSTART;TZID=Europe/Paris:20251002T190000
DTEND;TZID=Europe/Paris:20251004T230000
DTSTAMP:20260421T202448
CREATED:20250930T052559Z
LAST-MODIFIED:20250930T052638Z
UID:24122-1759431600-1759618800@www.the180i.com
SUMMARY:Oktoberfest at the Condamine Market Organised by Maire de Monaco
DESCRIPTION:Oktoberfest at the Condamine Market 2025\nThe Condamine Market is decked out in the colors of Bavaria for Oktoberfest! \nFrom Thursday\, October 2 to Saturday\, October 4\, 2025\, starting at 7:00 p.m.\, experience the friendly atmosphere of this traditional festival. \nOn the program:\n• Tyrolfest Orchestra for a festive atmosphere\n• Tasting of typical dishes \nEntertainment\nCondamine Market – starting at 7:00 p.m.\nReservations required with the merchants in the market hall.
URL:https://www.the180i.com/event/oktoberfest-at-the-dondamine-market-organised-by-maire-de-monaco/
LOCATION:Marché de La Condamine\, 15\, place d' Armes\, Monaco
CATEGORIES:Cocktails & Aperitifs,Entertainment,Family Friendly,Featured,Festivals,Mairie de Monaco
ATTACH;FMTTYPE=image/jpeg:https://www.the180i.com/wp-content/uploads/2025/09/oktoberfest-mairie-de-monaco-banner-1200x630-opt.jpg
END:VEVENT
BEGIN:VEVENT
DTSTART;VALUE=DATE:20251005
DTEND;VALUE=DATE:20251006
DTSTAMP:20260421T202448
CREATED:20250930T053822Z
LAST-MODIFIED:20250930T053822Z
UID:24126-1759622400-1759708799@www.the180i.com
SUMMARY:Monaco Opens its Doors for the 30th European Heritage Days Oct 5
DESCRIPTION:European Heritage Days\nOn Sunday\, October 5th\, Monaco City Hall opens its doors for the 30th European Heritage Days 🏛️. \nOn the program:\n– Tour of the Wedding Hall\, the Council Chamber\, and the Mayor’s Office\n– Exhibition “The Exotic Garden of Monaco\, an architectural object” in the Town Hall lobby 🌿\n– Concerts by the Rainier III Academy and the U Cantin d’A Roca choir 🎶\n– Photo booth to take home a souvenir\n– The Rainier III Academy\, the Botanical Center\, and the School of Fine Arts also offer activities outside the Town Hall. \nOpen House\n– Free admission from 10 a.m. to 5 p.m. \nFull program: https://mairie.mc/journees-europennes-du-patrimoine
URL:https://www.the180i.com/event/monaco-opens-its-doors-for-the-30th-european-heritage-days-oct-5/
CATEGORIES:Concerts,Culture & Arts,Entertainment,Exhibition,Family Friendly,Featured,Festivals
ATTACH;FMTTYPE=image/jpeg:https://www.the180i.com/wp-content/uploads/2025/09/eu-heritage-day-mairie-de-monaco-banner-1200x630-opt.jpg
END:VEVENT
BEGIN:VEVENT
DTSTART;VALUE=DATE:20251005
DTEND;VALUE=DATE:20251006
DTSTAMP:20260421T202448
CREATED:20250930T063253Z
LAST-MODIFIED:20250930T063253Z
UID:24136-1759622400-1759708799@www.the180i.com
SUMMARY:Live Concert by l’Académie Rainier III Conservatoire of Monaco by PGIL\, Oct 5
DESCRIPTION:SUNDAY 05 OCTOBER 2025\nJOURNÉE DU PATRIMOINE – HERITAGE DAY\n\n\n\nThe Princess Grace Irish Library will open on Sunday 5th October 2025 for the annual Heritage Day (la Journée du Patrimoine) in Monaco. \nEnjoy a short concert (duration 15 minutes) by the talented harp students from l’Académie Rainier III Conservatoire in Monaco. \nTimes of concerts: 10h00\, 10h30\, 11h00 and 11h30 \nDiscover the library and the link that Princess Grace had with Ireland\, which continues today with the Prince and his family. \nVisite guidée en français de la bibliothèque (15 minutes) – heures fixées : 11:45\, 14:30\, 15:30.\nIn English a guided visit of the library (15 minutes) : 12:00\, 15:00\, 16 :00 \nRéservations obligatoires ! Reservations are necessary. \nEntrance is gratuit. Entrance is free. \nFor more information\, visit https://journeepatrimoinemonaco.com/site/princess-grace-irish-library/\nOr simply email us on info@pgil.mc
URL:https://www.the180i.com/event/live-concert-by-lacademie-rainier-iii-conservatoire-of-monaco-by-pgil-oct-5/
LOCATION:Princess Grace Irish LIbrary\, 9 rue Princesse Marie-de-Lorraine\, Monaco
CATEGORIES:Charity,Concerts,Culture & Arts,Entertainment,Family Friendly,Featured,Most Popular
ATTACH;FMTTYPE=image/jpeg:https://www.the180i.com/wp-content/uploads/2025/09/pgil-heritage-day-live-performance-banner-1200x630-opt.jpg
END:VEVENT
BEGIN:VEVENT
DTSTART;TZID=Europe/Paris:20251011T100000
DTEND;TZID=Europe/Paris:20251012T163000
DTSTAMP:20260421T202448
CREATED:20251010T072429Z
LAST-MODIFIED:20251011T133558Z
UID:24292-1760176800-1760286600@www.the180i.com
SUMMARY:Dive Into Monaco's Green Heart: Nature Weekend 2025 and Explore Mareterra
DESCRIPTION:Monaco is inviting you to become an “Explorer” this autumn at the third annual Nature Weekend\, offering a free\, behind-the-scenes look at the Mareterra district—the Principality’s new\, sustainable urban development. \nThe Urban Planning Department\, through its Gardens section\, is organizing for the third consecutive year the “Nature Weekend”\, on Saturday 11 and Sunday 12 October 2025\, from 10 a.m. to 4:30 p.m.\, in the heart of the new Mareterra district. \nThis year\, the theme of this event is “Explorer\,” and the public is invited to discover what goes on behind the scenes of the landscaping of Mareterra\, designed with a sustainable approach that respects biodiversity. \nThroughout the weekend\, the teams from the Urban Planning Department will be offering free workshops open to all\, for young and old:\n• Planting module layout game;\n• Eco-creative workshops: plant compositions\, repotting;\n• Discovery trail of the neighborhood and its plant arrangements. \nThese activities will allow visitors to better understand the location choices\, the selection of plant species\, as well as the environmental issues linked to this new district. \nPractical information\n• Dates: Saturday 11 and Sunday 12 October 2025\n• Times: 10 a.m. to 4:30 p.m.\n• Location: Mareterra – Principality of Monaco\n• Free entry
URL:https://www.the180i.com/event/dive-into-monacos-green-heart-nature-weekend-2025-and-explore-mareterra/
LOCATION:Mareterra – Principality of Monaco\, Le Formentor\, 27 Avenue Princesse Grace\, Monaco
CATEGORIES:Entertainment,Family Friendly,Featured,Lifestyle,Sustainability
ATTACH;FMTTYPE=image/jpeg:https://www.the180i.com/wp-content/uploads/2025/10/monaco-weekend-nature-featured-1200x630-opt.jpg
END:VEVENT
BEGIN:VEVENT
DTSTART;TZID=Europe/Paris:20251018T140000
DTEND;TZID=Europe/Paris:20251018T160000
DTSTAMP:20260421T202448
CREATED:20251011T133429Z
LAST-MODIFIED:20251011T160404Z
UID:24331-1760796000-1760803200@www.the180i.com
SUMMARY:Join The Fourth TEDxYouth Event Hosted by International School of Monaco (ISM)\, Oct 18th
DESCRIPTION:The International School of Monaco (ISM) proudly hosts its fourth TEDxYouth event 2025 \nDon’t miss your chance to be part of an afternoon of inspiring talks under the theme “The Power of Perspective.” \n📅 October 18\, 2025 | 2–4pm | International School of Monaco auditorium. Doors open 1:30pm. \nWith an incredible line-up of student speakers\, a parent speaker\, and a teacher speaker\, this event promises fresh ideas and meaningful perspectives worth sharing. 🙌 \nSpeaker Line-up\nSee who you know in the panel of speakers ahead of the event! \nOrganisers Behind the Event and The Team\nMeet Alicia Sedgwick co-curator\, Rajivi\, and the Team.\nVisit the website to see who is behind the 4th TEDxYouth Event. \nTicket Details\nGet your tickets via the link below\, or at the door on the day of the event. \nTickets are free for ISM students and €10 per ticket for other community members\, including parents. \nBuy your tickets ahead of time to allow for speedy access to your seats using this link. \nRemember\nDoors open 1:30pm.  Come one\, come all!
URL:https://www.the180i.com/event/join-the-fourth-tedxyouth-event-hosted-by-international-school-of-monaco-ism-oct-18th/
LOCATION:International School of Monaco (ISM)\, 43 Av. Princesse Grace\, Monaco
CATEGORIES:Conference,Entertainment,Family Friendly,Featured,Learn
ATTACH;FMTTYPE=image/jpeg:https://www.the180i.com/wp-content/uploads/2025/10/tedxyouth@ismonaco-featured-1200x630-opt.jpg
ORGANIZER;CN="International School of Monaco":MAILTO:contact@ismonaco.com
END:VEVENT
BEGIN:VEVENT
DTSTART;TZID=Europe/Paris:20251031T183000
DTEND;TZID=Europe/Paris:20251101T010000
DTSTAMP:20260421T202448
CREATED:20251011T162139Z
LAST-MODIFIED:20251011T162548Z
UID:24382-1761935400-1761958800@www.the180i.com
SUMMARY:Don't Miss The Annual Halloween Fancy Dress Party at Slammers\, Oct 31st
DESCRIPTION:Join one of the most anticipated events in Monaco — the Halloween Party at Slammers on Friday\, 31st October 👻 \n✨ Fancy dress is a must\n🏆 Prizes for best costume\n🎟 Raffle with ultra-cool prizes (€5 each or 5 for €20 — available now at Slammers) \nAll proceeds from raffle ticket sales will aid “Chances for Children“. No entrance fee. \nTell your friends\, come join us\, support Chances for Children\, and have a fabulous night! 🧡 \n 
URL:https://www.the180i.com/event/dont-miss-the-annual-halloween-fancy-dress-party-at-slammers-oct-31st/
LOCATION:Slammers Bar Monaco\, 6 Rue Suffren Reymond\, Monaco
CATEGORIES:Charity,Cocktails & Aperitifs,Entertainment,Featured
ATTACH;FMTTYPE=image/jpeg:https://www.the180i.com/wp-content/uploads/2025/10/slammers-halloween-party-featured-1200x630-opt.jpg
END:VEVENT
END:VCALENDAR