BEGIN:VCALENDAR
VERSION:2.0
PRODID:-//The 180i Digital Magazine - ECPv6.15.20//NONSGML v1.0//EN
CALSCALE:GREGORIAN
METHOD:PUBLISH
X-ORIGINAL-URL:https://www.the180i.com
X-WR-CALDESC:Events for The 180i Digital Magazine
REFRESH-INTERVAL;VALUE=DURATION:PT1H
X-Robots-Tag:noindex
X-PUBLISHED-TTL:PT1H
BEGIN:VTIMEZONE
TZID:Europe/Paris
BEGIN:DAYLIGHT
TZOFFSETFROM:+0100
TZOFFSETTO:+0200
TZNAME:CEST
DTSTART:20240331T010000
END:DAYLIGHT
BEGIN:STANDARD
TZOFFSETFROM:+0200
TZOFFSETTO:+0100
TZNAME:CET
DTSTART:20241027T010000
END:STANDARD
BEGIN:DAYLIGHT
TZOFFSETFROM:+0100
TZOFFSETTO:+0200
TZNAME:CEST
DTSTART:20250330T010000
END:DAYLIGHT
BEGIN:STANDARD
TZOFFSETFROM:+0200
TZOFFSETTO:+0100
TZNAME:CET
DTSTART:20251026T010000
END:STANDARD
BEGIN:DAYLIGHT
TZOFFSETFROM:+0100
TZOFFSETTO:+0200
TZNAME:CEST
DTSTART:20260329T010000
END:DAYLIGHT
BEGIN:STANDARD
TZOFFSETFROM:+0200
TZOFFSETTO:+0100
TZNAME:CET
DTSTART:20261025T010000
END:STANDARD
END:VTIMEZONE
BEGIN:VEVENT
DTSTART;TZID=Europe/Paris:20251011T100000
DTEND;TZID=Europe/Paris:20251012T163000
DTSTAMP:20260421T233555
CREATED:20251010T072429Z
LAST-MODIFIED:20251011T133558Z
UID:24292-1760176800-1760286600@www.the180i.com
SUMMARY:Dive Into Monaco's Green Heart: Nature Weekend 2025 and Explore Mareterra
DESCRIPTION:Monaco is inviting you to become an “Explorer” this autumn at the third annual Nature Weekend\, offering a free\, behind-the-scenes look at the Mareterra district—the Principality’s new\, sustainable urban development. \nThe Urban Planning Department\, through its Gardens section\, is organizing for the third consecutive year the “Nature Weekend”\, on Saturday 11 and Sunday 12 October 2025\, from 10 a.m. to 4:30 p.m.\, in the heart of the new Mareterra district. \nThis year\, the theme of this event is “Explorer\,” and the public is invited to discover what goes on behind the scenes of the landscaping of Mareterra\, designed with a sustainable approach that respects biodiversity. \nThroughout the weekend\, the teams from the Urban Planning Department will be offering free workshops open to all\, for young and old:\n• Planting module layout game;\n• Eco-creative workshops: plant compositions\, repotting;\n• Discovery trail of the neighborhood and its plant arrangements. \nThese activities will allow visitors to better understand the location choices\, the selection of plant species\, as well as the environmental issues linked to this new district. \nPractical information\n• Dates: Saturday 11 and Sunday 12 October 2025\n• Times: 10 a.m. to 4:30 p.m.\n• Location: Mareterra – Principality of Monaco\n• Free entry
URL:https://www.the180i.com/event/dive-into-monacos-green-heart-nature-weekend-2025-and-explore-mareterra/
LOCATION:Mareterra – Principality of Monaco\, Le Formentor\, 27 Avenue Princesse Grace\, Monaco
CATEGORIES:Entertainment,Family Friendly,Featured,Lifestyle,Sustainability
ATTACH;FMTTYPE=image/jpeg:https://www.the180i.com/wp-content/uploads/2025/10/monaco-weekend-nature-featured-1200x630-opt.jpg
END:VEVENT
BEGIN:VEVENT
DTSTART;TZID=Europe/Paris:20251018T140000
DTEND;TZID=Europe/Paris:20251018T160000
DTSTAMP:20260421T233555
CREATED:20251011T133429Z
LAST-MODIFIED:20251011T160404Z
UID:24331-1760796000-1760803200@www.the180i.com
SUMMARY:Join The Fourth TEDxYouth Event Hosted by International School of Monaco (ISM)\, Oct 18th
DESCRIPTION:The International School of Monaco (ISM) proudly hosts its fourth TEDxYouth event 2025 \nDon’t miss your chance to be part of an afternoon of inspiring talks under the theme “The Power of Perspective.” \n📅 October 18\, 2025 | 2–4pm | International School of Monaco auditorium. Doors open 1:30pm. \nWith an incredible line-up of student speakers\, a parent speaker\, and a teacher speaker\, this event promises fresh ideas and meaningful perspectives worth sharing. 🙌 \nSpeaker Line-up\nSee who you know in the panel of speakers ahead of the event! \nOrganisers Behind the Event and The Team\nMeet Alicia Sedgwick co-curator\, Rajivi\, and the Team.\nVisit the website to see who is behind the 4th TEDxYouth Event. \nTicket Details\nGet your tickets via the link below\, or at the door on the day of the event. \nTickets are free for ISM students and €10 per ticket for other community members\, including parents. \nBuy your tickets ahead of time to allow for speedy access to your seats using this link. \nRemember\nDoors open 1:30pm.  Come one\, come all!
URL:https://www.the180i.com/event/join-the-fourth-tedxyouth-event-hosted-by-international-school-of-monaco-ism-oct-18th/
LOCATION:International School of Monaco (ISM)\, 43 Av. Princesse Grace\, Monaco
CATEGORIES:Conference,Entertainment,Family Friendly,Featured,Learn
ATTACH;FMTTYPE=image/jpeg:https://www.the180i.com/wp-content/uploads/2025/10/tedxyouth@ismonaco-featured-1200x630-opt.jpg
ORGANIZER;CN="International School of Monaco":MAILTO:contact@ismonaco.com
END:VEVENT
BEGIN:VEVENT
DTSTART;TZID=Europe/Paris:20251031T183000
DTEND;TZID=Europe/Paris:20251101T010000
DTSTAMP:20260421T233555
CREATED:20251011T162139Z
LAST-MODIFIED:20251011T162548Z
UID:24382-1761935400-1761958800@www.the180i.com
SUMMARY:Don't Miss The Annual Halloween Fancy Dress Party at Slammers\, Oct 31st
DESCRIPTION:Join one of the most anticipated events in Monaco — the Halloween Party at Slammers on Friday\, 31st October 👻 \n✨ Fancy dress is a must\n🏆 Prizes for best costume\n🎟 Raffle with ultra-cool prizes (€5 each or 5 for €20 — available now at Slammers) \nAll proceeds from raffle ticket sales will aid “Chances for Children“. No entrance fee. \nTell your friends\, come join us\, support Chances for Children\, and have a fabulous night! 🧡 \n 
URL:https://www.the180i.com/event/dont-miss-the-annual-halloween-fancy-dress-party-at-slammers-oct-31st/
LOCATION:Slammers Bar Monaco\, 6 Rue Suffren Reymond\, Monaco
CATEGORIES:Charity,Cocktails & Aperitifs,Entertainment,Featured
ATTACH;FMTTYPE=image/jpeg:https://www.the180i.com/wp-content/uploads/2025/10/slammers-halloween-party-featured-1200x630-opt.jpg
END:VEVENT
END:VCALENDAR