BEGIN:VCALENDAR
VERSION:2.0
PRODID:-//The 180i Digital Magazine - ECPv6.15.20//NONSGML v1.0//EN
CALSCALE:GREGORIAN
METHOD:PUBLISH
X-WR-CALNAME:The 180i Digital Magazine
X-ORIGINAL-URL:https://www.the180i.com
X-WR-CALDESC:Events for The 180i Digital Magazine
REFRESH-INTERVAL;VALUE=DURATION:PT1H
X-Robots-Tag:noindex
X-PUBLISHED-TTL:PT1H
BEGIN:VTIMEZONE
TZID:Europe/Paris
BEGIN:DAYLIGHT
TZOFFSETFROM:+0100
TZOFFSETTO:+0200
TZNAME:CEST
DTSTART:20240331T010000
END:DAYLIGHT
BEGIN:STANDARD
TZOFFSETFROM:+0200
TZOFFSETTO:+0100
TZNAME:CET
DTSTART:20241027T010000
END:STANDARD
BEGIN:DAYLIGHT
TZOFFSETFROM:+0100
TZOFFSETTO:+0200
TZNAME:CEST
DTSTART:20250330T010000
END:DAYLIGHT
BEGIN:STANDARD
TZOFFSETFROM:+0200
TZOFFSETTO:+0100
TZNAME:CET
DTSTART:20251026T010000
END:STANDARD
BEGIN:DAYLIGHT
TZOFFSETFROM:+0100
TZOFFSETTO:+0200
TZNAME:CEST
DTSTART:20260329T010000
END:DAYLIGHT
BEGIN:STANDARD
TZOFFSETFROM:+0200
TZOFFSETTO:+0100
TZNAME:CET
DTSTART:20261025T010000
END:STANDARD
END:VTIMEZONE
BEGIN:VEVENT
DTSTART;VALUE=DATE:20250428
DTEND;VALUE=DATE:20250901
DTSTAMP:20260421T021956
CREATED:20250513T175920Z
LAST-MODIFIED:20250605T000738Z
UID:23159-1745798400-1756684799@www.the180i.com
SUMMARY:"Il était une première fois". 40th Anniversary of the Stade Louis-II
DESCRIPTION:This exhibition\, entitled “Il était une première fois” (“Once Upon A First Time”) is all about the “firsts” that have marked the life of this illustrious stadium. \nFrom first events to first records and first performances\, each one is a milestone that reflects the rich history and multitude of different activities to which the Stade Louis-II has borne witness over the years. The exhibition will run for several months.
URL:https://www.the180i.com/event/il-etait-une-premiere-fois-40th-anniversary-of-the-stade-louis-ii/
LOCATION:Stade Louis II (Louis II Stadium)\, 7\, avenue des Castelans\, Monaco
CATEGORIES:Culture & Arts,Entertainment,Exhibition,Lifestyle,Sports
ATTACH;FMTTYPE=image/jpeg:https://www.the180i.com/wp-content/uploads/2025/05/stade-louis-50-years-1200x630-opt.jpg
END:VEVENT
BEGIN:VEVENT
DTSTART;VALUE=DATE:20250503
DTEND;VALUE=DATE:20250505
DTSTAMP:20260421T021956
CREATED:20250424T061907Z
LAST-MODIFIED:20250430T234722Z
UID:22534-1746230400-1746403199@www.the180i.com
SUMMARY:Formula E Monaco E-Prix
DESCRIPTION:The 8th Monaco E-Prix\, organised by the Automobile Club de Monaco will take place on Saturday 3 and Sunday 4 May 2025. In 2025\, for the very first time\, the Principality of Monaco will host two stages of the ABB FIA Formula E World Championship over one weekend\, in the competition’s eleventh season. \n⚡ Double the Drama in Monaco\nFor the first time ever\, the 2025 ABB FIA Formula E World Championship will feature a double-header weekend in Monaco on May 3 and 4\, celebrating 10 years of electric racing in the Principality. Expect two full days of high-octane action on a circuit where nearly 200 overtakes happened last year. \n🚀 GEN3 EVO: Next-Level Speed\nThe new GEN3 EVO cars debut this season\, accelerating from 0-100 km/h in just 1.82 seconds—faster than an F1 car off the line. With 17 races on the calendar and tech like “ATTACK MODE” and “Fan Boost\,” Formula E continues to push racing boundaries. \n⚙️ From Napkin Sketch to Global Series\nConceived in a Paris restaurant in 2011\, Formula E has grown from a visionary idea into a cutting-edge international motorsport\, combining sustainability with street racing in iconic cities. \n🏁 Full Circuit\, Full Thrills\nElectric cars now race Monaco’s full Grand Prix circuit\, a major leap from their early days. Since 2021\, the E-Prix has become a highlight of the annual motorsport calendar\, showcasing the rapid evolution of EV performance. \n🅿️ Park & Ride Like a Pro\nFans arriving by car can use the new Parking des Salines\, with free shuttle service to the circuit every 10 minutes. It’s a smooth ride to the action—and ideal for those with reduced mobility.
URL:https://www.the180i.com/event/formula-e-monaco-e-prix/
LOCATION:Monaco\, Monaco
CATEGORIES:Cars,Featured,Grand Rendez-vous,Lifestyle,Most Popular,Sports
ATTACH;FMTTYPE=image/jpeg:https://www.the180i.com/wp-content/uploads/2025/04/formala-e-events-the-180i-featured-1200x630-opt.jpg
ORGANIZER;CN="Automobile Club de Monaco":MAILTO:info@acm.mc
END:VEVENT
BEGIN:VEVENT
DTSTART;VALUE=DATE:20250508
DTEND;VALUE=DATE:20250512
DTSTAMP:20260421T021956
CREATED:20250424T064003Z
LAST-MODIFIED:20250605T002718Z
UID:22547-1746662400-1747007999@www.the180i.com
SUMMARY:Top Marques Monaco
DESCRIPTION:From May 8 to 11\, 2025\, Top Marques Monaco returns for its 20th edition at the Grimaldi Forum. Top Marques is an exclusive international supercar show\, the only event of its kind in the world\, where enthusiasts and luxury automobile fans come together to admire and purchase the latest models. The event is held annually in the Principality of Monaco\, under the High Patronage of H.S.H. Prince Albert II of Monaco. \n \n🏎️ Top Marques Monaco 2025: Where Supercars and Luxury Collide \nThe Ultimate Supercar Showcase\nFrom May 8 to 11\, 2025\, Top Marques Monaco returns for its 20th edition at the Grimaldi Forum. It’s the only show of its kind in the world\, combining ultra-luxury automobiles\, superboats\, and high-end lifestyle goods—all under the patronage of H.S.H. Prince Albert II. \nMore Than Just a Car Show\nFounded in 2004 as a live driving experience\, Top Marques has evolved into a global stage for prestige launches from brands like Bugatti\, McLaren\, Aston Martin\, and Bentley. It’s also embraced cutting-edge innovations\, restomods\, and alternative-fuel vehicles. \n \nClassic Icons & Modern Marvels\nSince 2022\, classic car lovers can feast their eyes on iconic models from the ’50s to the ’90s\, including legendary Ferraris and F1-inspired builds. Expect about 60 vintage gems in 2025\, alongside rare motorcycles\, aircraft\, and concept vehicles. \nLuxury Beyond the Garage\nIt’s not just about the wheels—Top Marques also features luxury watches\, jewellery\, fashion\, and the latest in superboats. This year introduces standout newcomers like Belgian watch brand Fuchs & Gov. \nAccessible Innovation\nCan’t make it to Monaco? No problem—Top Marques has gone digital\, allowing fans around the globe to tune in and experience the world’s most exclusive automotive event online. \nPhoto credits: ©Top Marques Monaco / Lucas Scherrer
URL:https://www.the180i.com/event/top-marques-monaco/
LOCATION:Grimaldi Forum\, 10\, avenue Princesse Grace\, Monaco
CATEGORIES:Cars,Grand Rendez-vous,Lifestyle,Most Popular
ATTACH;FMTTYPE=image/jpeg:https://www.the180i.com/wp-content/uploads/2025/04/top-marque-events-the-180i-featured-1200x630-2-opt.jpg
END:VEVENT
BEGIN:VEVENT
DTSTART;VALUE=DATE:20250510
DTEND;VALUE=DATE:20250512
DTSTAMP:20260421T021956
CREATED:20250425T013921Z
LAST-MODIFIED:20250425T013921Z
UID:22781-1746835200-1747007999@www.the180i.com
SUMMARY:Event - "56th International Bouquet Competition"
DESCRIPTION:Saturday 10 and Sunday 11 May 2025\, Yacht Club de Monaco \nLe Garden Club est une association en Art floral créée par la Princesse Grace de Monaco. \nOrganised by the Garden Club de Monaco under the High Patronage of H.S.H. Prince Albert II and the Presidency of H.R.H. the Princess of Hanover\, the 56th International Bouquet Competition is an unmissable event for all those who love plants\, flowers\, and floral decorations. The competition is open to all\, from amateurs to professionals\, decorators and floral art teachers. The theme for this year’s competition is “Flowers in Motion”.
URL:https://www.the180i.com/event/event-56th-international-bouquet-competition/
LOCATION:Yacht Club de Monaco\, Quai Louis II\, Monaco
CATEGORIES:Culture & Arts,Entertainment,Lifestyle
ATTACH;FMTTYPE=image/jpeg:https://www.the180i.com/wp-content/uploads/2025/04/garden-club-56th-concours-the-180i-featured-1200x630-opt.jpg
ORGANIZER;CN="Garden Club de Monaco":MAILTO:gardenclub@monaco.mc
END:VEVENT
BEGIN:VEVENT
DTSTART;VALUE=DATE:20250513
DTEND;VALUE=DATE:20250525
DTSTAMP:20260421T021956
CREATED:20250512T194106Z
LAST-MODIFIED:20250514T111310Z
UID:23116-1747094400-1748131199@www.the180i.com
SUMMARY:78th Cannes Film Festival
DESCRIPTION:78th Cannes Film Festival – Event \nThe 78th edition of the Cannes Film Festival returns May 13- 24\, showcasing 22 films in competition for the prestigious Palme d’Or\, including works by Wes Anderson\, Julia Ducournau\, and Jafar Panahi. \nHighlights include an honorary Palme d’Or for Robert De Niro and premieres of major films like Mission: Impossible – The Final Reckoning. \nAlongside the competition\, the festival hosts world-class panels\, networking events\, and public beach screenings\, continuing its legacy as the global epicenter of cinema. \nMembers of the public are welcome to join the beach screenings. The Cinéma de la Plage offers free\, open-air film screenings each evening at 9:30 PM on Macé Beach\, opposite the Majestic hotel. These screenings are open to all\, but seating is limited and available on a first-come\, first-served basis. It’s recommended to arrive early to secure a spot. Festival de Cannes+1 Festival de Cannes+1
URL:https://www.the180i.com/event/78th-cannes-film-festival/
LOCATION:Cannes Film Festival\, France
CATEGORIES:Business,Celebrities,Cocktails & Aperitifs,Entertainment,Film,Lifestyle
ATTACH;FMTTYPE=image/jpeg:https://www.the180i.com/wp-content/uploads/2025/05/78th-festival-cannes-1200x630-2-opt.jpg
END:VEVENT
BEGIN:VEVENT
DTSTART;VALUE=DATE:20250517
DTEND;VALUE=DATE:20250519
DTSTAMP:20260421T021956
CREATED:20250425T015707Z
LAST-MODIFIED:20250425T015946Z
UID:22791-1747440000-1747612799@www.the180i.com
SUMMARY:Sport - "International Swimming Meeting"
DESCRIPTION:From Saturday 17 to Sunday 18 May 2025\, Piscine Olympique Albert II du Stade Louis II \n42nd “Mare Nostrum” Monte-Carlo International Swimming Meeting\, organised by the Monegasque Swimming Federation.
URL:https://www.the180i.com/event/sport-international-swimming-meeting/
LOCATION:Piscine Olympique Albert II du Stade Louis II\, Monaco
CATEGORIES:Lifestyle,Sports
ATTACH;FMTTYPE=image/jpeg:https://www.the180i.com/wp-content/uploads/2025/04/stade-louis-swimming-stadium-the-180i-featured-1200x630-opt.jpg
ORGANIZER;CN="Monegasque Swimming Federation":MAILTO:fedmonat@monaco.mc
END:VEVENT
BEGIN:VEVENT
DTSTART;VALUE=DATE:20250523
DTEND;VALUE=DATE:20250526
DTSTAMP:20260421T021956
CREATED:20250424T065751Z
LAST-MODIFIED:20250424T065913Z
UID:22554-1747958400-1748217599@www.the180i.com
SUMMARY:Formula 1 TAG Heuer Grand Prix de Monaco
DESCRIPTION:From Friday 23 to Sunday 25 May 2025\, the Principality will play host to the 82nd edition of the most famous motor race of them all: the Formula 1 TAG Heuer Grand Prix de Monaco.\nExperience the thrill of elite motor sport\, like nowhere else… \n \n🏁 The 2025 Monaco Grand Prix: Where Legends and Precision Collide \nCharles Leclerc’s Triumph and Homecoming\nFrom May 23–25\, 2025\, the Formula 1 TAG Heuer Grand Prix de Monaco returns for its 82nd edition. After a historic 2024 win\, homegrown hero Charles Leclerc will be the one to watch as he defends his crown on the tight\, twisty streets of Monte Carlo—where every corner is personal. \nA Storied Legacy Since 1929\nThis legendary race began nearly a century ago thanks to visionary Antony Noghès. Since then\, icons like Fangio\, Senna\, Prost\, and Schumacher have battled for supremacy on a circuit like no other\, with Senna still holding the record for most wins in Monaco (6). \n \n“Bicycle in Your Living Room”\nAs Nelson Piquet famously said\, driving Monaco is as tight as it gets. With just 3.337 km of track\, 78 laps\, and the infamous 45 km/h Fairmont hairpin\, this is F1’s ultimate test of control\, bravery\, and razor-sharp reflexes. One mistake? Into the barriers. \n \nThe Monaco GP Is Here to Stay\nThanks to a renewed deal with Formula One Group\, Monaco will remain on the F1 calendar until at least 2031\, ensuring fans can continue to enjoy the sport’s most glamorous weekend in the heart of the Principality. \n🚗 Easy Access with Parking des Salines\nDrivers can park at the new Parking des Salines\, with free shuttle buses running every 10 minutes to the track. It’s a smooth ride to the action\, perfect for fans and spectators with reduced mobility. \nPhoto credits: © ACM Olivier Caenen / Michael Alesi / Benjamin Vergély
URL:https://www.the180i.com/event/formula-1-tag-heuer-grand-prix-de-monaco/
LOCATION:Monaco\, Monaco
CATEGORIES:Cars,Grand Rendez-vous,Lifestyle,Most Popular,Sports
ATTACH;FMTTYPE=image/jpeg:https://www.the180i.com/wp-content/uploads/2025/04/grand-prix-events-the-180i-featured-1200x630-opt.jpg
ORGANIZER;CN="Automobile Club de Monaco":MAILTO:info@acm.mc
END:VEVENT
END:VCALENDAR