BEGIN:VCALENDAR
VERSION:2.0
PRODID:-//The 180i Digital Magazine - ECPv6.15.20//NONSGML v1.0//EN
CALSCALE:GREGORIAN
METHOD:PUBLISH
X-ORIGINAL-URL:https://www.the180i.com
X-WR-CALDESC:Events for The 180i Digital Magazine
REFRESH-INTERVAL;VALUE=DURATION:PT1H
X-Robots-Tag:noindex
X-PUBLISHED-TTL:PT1H
BEGIN:VTIMEZONE
TZID:Europe/Paris
BEGIN:DAYLIGHT
TZOFFSETFROM:+0100
TZOFFSETTO:+0200
TZNAME:CEST
DTSTART:20240331T010000
END:DAYLIGHT
BEGIN:STANDARD
TZOFFSETFROM:+0200
TZOFFSETTO:+0100
TZNAME:CET
DTSTART:20241027T010000
END:STANDARD
BEGIN:DAYLIGHT
TZOFFSETFROM:+0100
TZOFFSETTO:+0200
TZNAME:CEST
DTSTART:20250330T010000
END:DAYLIGHT
BEGIN:STANDARD
TZOFFSETFROM:+0200
TZOFFSETTO:+0100
TZNAME:CET
DTSTART:20251026T010000
END:STANDARD
BEGIN:DAYLIGHT
TZOFFSETFROM:+0100
TZOFFSETTO:+0200
TZNAME:CEST
DTSTART:20260329T010000
END:DAYLIGHT
BEGIN:STANDARD
TZOFFSETFROM:+0200
TZOFFSETTO:+0100
TZNAME:CET
DTSTART:20261025T010000
END:STANDARD
END:VTIMEZONE
BEGIN:VEVENT
DTSTART;VALUE=DATE:20251115
DTEND;VALUE=DATE:20251124
DTSTAMP:20260419T174612
CREATED:20251105T032720Z
LAST-MODIFIED:20251105T032720Z
UID:24830-1763164800-1763942399@www.the180i.com
SUMMARY:Join the Monaco "No Finish Line"
DESCRIPTION:Ready\, set\, give: No Finish Line Monaco returns from November 15 to 23! \nSince its inception\, the No Finish Line has been a major sporting\, intergenerational celebration\, combining self-improvement and conviviality for a single cause: helping children. Thanks to this surge of generosity and this sporting enthusiasm\, this race of the heart is a shining demonstration that happiness is always a quest to be renewed\, shared\, and offered. \nStart: Saturday\, November 15th\, 2 p.m.\nNon-stop endurance: 8 days until Sunday\, November 23rd\, 2 p.m.\nCircuit: 1\,140 meters around the Fontvieille Big Top in Monaco\nSupport: 30 Children & Future volunteers\, available day and night\nRefreshments: Permanent on the circuit throughout the race \nParticipate at your own pace\, but for the same cause. \nThe principle is simple: walk or run the circuit as many times and for as long as you like (with a chip issued on site to count the kilometers). For each kilometer run\, Children & Future commits to donating €1 to support projects that benefit sick or disadvantaged children. A race open to all\, and kilometers that change lives! \nAn eco-responsible commitment: no more disposable cups! Introducing reusable water bottles\, available on site for €1\, and personal containers. No Finish Line\, which has been involved in the fight against environmental pollution since 2021\, is continuing its ecological commitment. \nRefreshment breaks: Professionals are on hand to provide care and assistance to participants after their athletic efforts. \nCome from November 15th to 23rd at the Fontvieille Big Top in Monaco for new sporting performances!
URL:https://www.the180i.com/event/join-the-monaco-no-finish-line/
LOCATION:Espace Fontvieille\, Monaco
CATEGORIES:Charity,Family Friendly,Grand Rendez-vous,Lifestyle,Meet New Friends,Most Popular
ATTACH;FMTTYPE=image/jpeg:https://www.the180i.com/wp-content/uploads/2025/11/no-finish-line-prince-albert-2024-featured-1200x630-opt.jpg
END:VEVENT
BEGIN:VEVENT
DTSTART;VALUE=DATE:20251119
DTEND;VALUE=DATE:20251120
DTSTAMP:20260419T174612
CREATED:20251105T040641Z
LAST-MODIFIED:20251105T040641Z
UID:24841-1763510400-1763596799@www.the180i.com
SUMMARY:Monaco Celebrates National Day on November 19
DESCRIPTION:🇲🇨 The Monegasque National Day\, also known as Sovereign Prince’s Day or La Fête du Prince\, is one of Monaco’s most important holidays\, celebrated every November 19 – this year falling on a Tuesday. It’s an official public holiday honoring the reigning Prince and the Principality. \nThe tradition ties the date to the Prince’s patron saint\, though Prince Rainier III chose his enthronement date\, November 19\, which coincides with Saint Rainier of Arezzo. His son\, Prince Albert II\, continues the custom in tribute. \nIn the weeks leading up to the celebration\, Monaco turns red and white\, with flags and decorations covering streets\, buildings\, and balconies. \n🎆 Festivities include: \nFireworks at Port Hercule on the evening of November 18\nA special Mass at Monaco Cathedral attended by the Princely Family\nA military parade at the Prince’s Palace Square\nCity-wide celebrations filled with music\, flags\, and joy\nA funfair at Port Hercule\, open throughout the holiday \nOn the evening of the 18th\, spectacular fireworks light up Port Hercule\, marking a moment of sharing and unity for Monegasques and visitors alike. \nOn the 19th\, celebrations begin with Mass at Monaco Cathedral\, attended by Prince Albert II and the Princely Family\, followed by a military parade on the Place du Palais. \nThe funfair in Port Hercule will also be open on the National day. \nThe day is a proud display of Monegasque unity\, tradition\, and loyalty to the Sovereign Prince.
URL:https://www.the180i.com/event/monaco-celebrates-national-day-on-november-19/
CATEGORIES:Concerts,Entertainment,Family Friendly,Festivals,Lifestyle,Most Popular
ATTACH;FMTTYPE=image/jpeg:https://www.the180i.com/wp-content/uploads/2025/11/monaco-national-day-flags-featured-1200x630-opt.jpg
END:VEVENT
BEGIN:VEVENT
DTSTART;TZID=Europe/Paris:20251119T180000
DTEND;TZID=Europe/Paris:20251119T193000
DTSTAMP:20260419T174612
CREATED:20251105T041433Z
LAST-MODIFIED:20251105T041433Z
UID:24844-1763575200-1763580600@www.the180i.com
SUMMARY:Philippine Delaire Show on Monaco's National Holiday November 19
DESCRIPTION:Philippine Delaire Show is organized on the occasion of the National Holiday on Wednesday November 19 at 6 pm in Espace Léo Ferré. \nCome and see Philippine Delaire’s show\, on the occasion of the Monaco’s National Day 2025. \nInvitations will be distributed at: Espace Léo Ferré from 11:00 am to 6:00 pm and at Monaco City Hall from 9:00 am to 4:00 pm \nTuesday\, November 4th for Monegasque citizens\, their spouses\, and their children. \nWednesday\, November 5th and Thursday\, November 6th for Monegasque citizens\, their spouses\, their children\, and residents. \nFree admission\, courtesy of the Monaco City Hall. \nNovember 19 @ 6:00 pm – 7:30 pm \nFree
URL:https://www.the180i.com/event/philippine-delaire-show-on-monacos-national-holiday-november-19/
LOCATION:Espace Léo Ferré\, Monaco
CATEGORIES:Celebrities,Entertainment,Family Friendly,Festivals,Lifestyle,Mairie de Monaco,Most Popular
ATTACH;FMTTYPE=image/jpeg:https://www.the180i.com/wp-content/uploads/2025/11/monaco-national-day-philippine-delaire-featured-1200x630-opt.jpg
END:VEVENT
END:VCALENDAR