BEGIN:VCALENDAR
VERSION:2.0
PRODID:-//The 180i Digital Magazine - ECPv6.15.20//NONSGML v1.0//EN
CALSCALE:GREGORIAN
METHOD:PUBLISH
X-WR-CALNAME:The 180i Digital Magazine
X-ORIGINAL-URL:https://www.the180i.com
X-WR-CALDESC:Events for The 180i Digital Magazine
REFRESH-INTERVAL;VALUE=DURATION:PT1H
X-Robots-Tag:noindex
X-PUBLISHED-TTL:PT1H
BEGIN:VTIMEZONE
TZID:Europe/Paris
BEGIN:DAYLIGHT
TZOFFSETFROM:+0100
TZOFFSETTO:+0200
TZNAME:CEST
DTSTART:20240331T010000
END:DAYLIGHT
BEGIN:STANDARD
TZOFFSETFROM:+0200
TZOFFSETTO:+0100
TZNAME:CET
DTSTART:20241027T010000
END:STANDARD
BEGIN:DAYLIGHT
TZOFFSETFROM:+0100
TZOFFSETTO:+0200
TZNAME:CEST
DTSTART:20250330T010000
END:DAYLIGHT
BEGIN:STANDARD
TZOFFSETFROM:+0200
TZOFFSETTO:+0100
TZNAME:CET
DTSTART:20251026T010000
END:STANDARD
BEGIN:DAYLIGHT
TZOFFSETFROM:+0100
TZOFFSETTO:+0200
TZNAME:CEST
DTSTART:20260329T010000
END:DAYLIGHT
BEGIN:STANDARD
TZOFFSETFROM:+0200
TZOFFSETTO:+0100
TZNAME:CET
DTSTART:20261025T010000
END:STANDARD
BEGIN:DAYLIGHT
TZOFFSETFROM:+0100
TZOFFSETTO:+0200
TZNAME:CEST
DTSTART:20270328T010000
END:DAYLIGHT
BEGIN:STANDARD
TZOFFSETFROM:+0200
TZOFFSETTO:+0100
TZNAME:CET
DTSTART:20271031T010000
END:STANDARD
END:VTIMEZONE
BEGIN:VEVENT
DTSTART;TZID=Europe/Paris:20250917T180000
DTEND;TZID=Europe/Paris:20250917T200000
DTSTAMP:20260421T063201
CREATED:20250916T163920Z
LAST-MODIFIED:20250916T163920Z
UID:23922-1758132000-1758139200@www.the180i.com
SUMMARY:MonacoUSA celebrates The Monegasque™ magasine Sept 17th
DESCRIPTION:In it’s September featured event\, MonacoUSA celebrates The Monegasque™\, Monaco’s newest cultural and lifestyle magazine.\n\n \n\nLaunched in late 2023\, The Monegasque™ has quickly established itself as a beacon of elegance\, creativity\, and thought leadership in the Principality\, offering an insider’s view of art\, society\, philanthropy\, and innovation.\n\n \n\nOn September 17th\, MonacoUSA celebrates a vision—one that reflects the vibrancy of Monaco’s community and the stories that shape its unique identity.\n\n \n\nMeet some of the celebrity writers who bring their unique voices and insider perspectives on Monaco lifestyle\, history and business\, like Helga Piaget\, H.I.R.H. Archduke Carl Christian of Austria\, Luiz F. Costa Macambira and Nancy Heslin.\n\n What to Expect \n\nEnjoy a lively evening at Marius Monaco (6 quai Antoine 1er) on September 17 with happy hour prices from 17h30–19h30\, a cash bar\, flash news interviews\, networking meet-ups\, a free tombola\, and complimentary copies of The Monegasque™ magazine.\n\n Date and Time \n\nSeptember 17th\, Wednesday\n6:00pm to 8:00pm\n\n Venue \n\nMarius Restaurant\n6 quai Antoine 1er\nMonaco\nOpen to non-members\nThis event is open to non-members. However\,  you can sign up\, if you wish\, on the evening for exclusive events throughout the year.\n\n 
URL:https://www.the180i.com/event/monacousa-celebrates-the-monegasque-magasine-sept-17th/
LOCATION:Marius Restaurant\, 6 Quai Antoine 1er\, 98000 Monaco\, Monaco
CATEGORIES:Cocktails & Aperitifs,Lifestyle,Meet New Friends,Most Popular
ATTACH;FMTTYPE=image/jpeg:https://www.the180i.com/wp-content/uploads/2025/09/the-monegasque-event-opt.jpg
ORGANIZER;CN="MonacoUSA":MAILTO:monacousa.mc@gmail.com
END:VEVENT
BEGIN:VEVENT
DTSTART;TZID=Europe/Paris:20250922T190000
DTEND;TZID=Europe/Paris:20250922T220000
DTSTAMP:20260421T063201
CREATED:20250916T164840Z
LAST-MODIFIED:20250916T165005Z
UID:23925-1758567600-1758578400@www.the180i.com
SUMMARY:Luxury Lifestyle Gala – A Prelude to the 2025 Monaco Yacht Show
DESCRIPTION:Luxury Lifestyle Gala – A Prelude to the 2025 Monaco Yacht Show \nCulture Shift Labs and Jaboy Productions present the Luxury Lifestyle Gala\, an evening where glamour meets purpose and art transforms the future. \nOn Monday\, September 22\, 2025 at Le Meridien Monaco\, guests will experience a night of dining\, fashion\, and performance as football icon Ronaldinho and Japanese contemporary artist MAGO Nagasaka unveil a groundbreaking collaboration. Their eco-luxury art pieces\, created from electronic waste\, highlight a bold vision for sustainability and cultural impact. \nHighlights include: \n\nPremiere of MAGO Nagasaka’s eco-luxury art pieces\nFashion show by Maison Angel Ann\nDJ set by TMP DJ\nLive violin performance by Margherita Valente\nBallet performance by Joy Womack\n\nEvent Details \n\nDate: Monday\, September 22\, 2025\nTime: 7:00 PM – 10:00 PM\nLocation: Le Meridien Monaco\nAttire: Cocktail Attire\n\nProceeds will support sustainable development in Ghana’s Agbogbloshie community\, one of the world’s most critical e-waste sites. \nJoin us for a night where glamour meets purpose\, and where art\, sport\, and culture come together to create lasting impact. \nWhere glamour meets purpose. 💫 \nGet your ticket: Jaboy Productions Presents the Luxury Lifestyle Gala Prelude to the Monaco Yacht Show
URL:https://www.the180i.com/event/luxury-lifestyle-gala-a-prelude-to-the-2025-monaco-yacht-show/
LOCATION:The Méridien Beach Plaza\, 22\, avenue Princesse Grace\, Monaco
CATEGORIES:Balls and Galas,Business,Celebrities,Culture & Arts,Fashion,Lifestyle,Most Popular
ATTACH;FMTTYPE=image/jpeg:https://www.the180i.com/wp-content/uploads/2025/09/jaboy-productions-mys-luxury-lifestyle-gala-event-opt.jpg
END:VEVENT
BEGIN:VEVENT
DTSTART;TZID=Europe/Paris:20250924T140000
DTEND;TZID=Europe/Paris:20250926T200000
DTSTAMP:20260421T063201
CREATED:20250921T131559Z
LAST-MODIFIED:20250921T131722Z
UID:24024-1758722400-1758916800@www.the180i.com
SUMMARY:Timeless Elegance: Art and Luxury Fair Monaco 2025
DESCRIPTION:September 24 to 26\, 2025 The Hotel Metropole\, Monte-Carlo\nUnder the high patronage of Prince Albert II of Monaco\nThe annual Art and Luxury Fair will be hosted at The Metropole Hotel\, located in the Carré d’Or\, in the heart of Monte Carlo. \nAdmire the latest trends in art\, lifestyle\, and fashion. Well-known brands showcase their latest products\, and leading figures from the art world exhibit their work. \nThe Dutch Design section promises to forge a deeper cultural and artistic connection between the Netherlands and Monaco. \nThis is the ultimate high-end fair where experience is key. Artists guide visitors through the creative process\, with the initiative to connect the makers\, who represent the highest craftsmanship in the Netherlands\, directly with the public. \nExhibitors include:• Atelier IDDI • Cult • Daphne Du Barry • The Parme Design • Elim van Delft • Hayo Sol • ILNI • Jack Liemburg • Distillerie de Monaco • Lotje Bosch Design • Maison Perrier-Jouët • Zantos Interiors & Exterior • Nora Bonavera • TS Holding • Monacqua • Claudio Sacchi • Studio Van Delft (SVD) \nJoin the Art and Luxury Fair at the Hotel Metropole\, where the passion for artistry and the beauty of art connect us all. \nOpen to the public from 14:00 to 17:00\, the fair also hosts exclusive evening gatherings (18:00–20:00) with performances\, masterclasses\, and lectures—bringing together artistry\, lifestyle\, and innovation in an intimate setting. \n\nArt and Luxury is an initiative of Annette Wijdom.\nHonorary creative contributor: HRH Margarita Princess de Bourbon de Parme.
URL:https://www.the180i.com/event/timeless-elegance-art-and-luxury-fair-monaco-2025/
LOCATION:The Metropole Hotel\, 4 Av. de la Madone\, 98000\, Monaco
CATEGORIES:Cocktails & Aperitifs,Culture & Arts,Exhibition,Featured,Lifestyle,Most Popular
ATTACH;FMTTYPE=image/jpeg:https://www.the180i.com/wp-content/uploads/2025/09/art-and-luxury-fair-monaco-1200x630-opt.jpg
ORGANIZER;CN="Annette Wijdom":MAILTO:info@artandluxuryfair.com
END:VEVENT
BEGIN:VEVENT
DTSTART;TZID=Europe/Paris:20251011T100000
DTEND;TZID=Europe/Paris:20251012T163000
DTSTAMP:20260421T063201
CREATED:20251010T072429Z
LAST-MODIFIED:20251011T133558Z
UID:24292-1760176800-1760286600@www.the180i.com
SUMMARY:Dive Into Monaco's Green Heart: Nature Weekend 2025 and Explore Mareterra
DESCRIPTION:Monaco is inviting you to become an “Explorer” this autumn at the third annual Nature Weekend\, offering a free\, behind-the-scenes look at the Mareterra district—the Principality’s new\, sustainable urban development. \nThe Urban Planning Department\, through its Gardens section\, is organizing for the third consecutive year the “Nature Weekend”\, on Saturday 11 and Sunday 12 October 2025\, from 10 a.m. to 4:30 p.m.\, in the heart of the new Mareterra district. \nThis year\, the theme of this event is “Explorer\,” and the public is invited to discover what goes on behind the scenes of the landscaping of Mareterra\, designed with a sustainable approach that respects biodiversity. \nThroughout the weekend\, the teams from the Urban Planning Department will be offering free workshops open to all\, for young and old:\n• Planting module layout game;\n• Eco-creative workshops: plant compositions\, repotting;\n• Discovery trail of the neighborhood and its plant arrangements. \nThese activities will allow visitors to better understand the location choices\, the selection of plant species\, as well as the environmental issues linked to this new district. \nPractical information\n• Dates: Saturday 11 and Sunday 12 October 2025\n• Times: 10 a.m. to 4:30 p.m.\n• Location: Mareterra – Principality of Monaco\n• Free entry
URL:https://www.the180i.com/event/dive-into-monacos-green-heart-nature-weekend-2025-and-explore-mareterra/
LOCATION:Mareterra – Principality of Monaco\, Le Formentor\, 27 Avenue Princesse Grace\, Monaco
CATEGORIES:Entertainment,Family Friendly,Featured,Lifestyle,Sustainability
ATTACH;FMTTYPE=image/jpeg:https://www.the180i.com/wp-content/uploads/2025/10/monaco-weekend-nature-featured-1200x630-opt.jpg
END:VEVENT
BEGIN:VEVENT
DTSTART;VALUE=DATE:20251106
DTEND;VALUE=DATE:20251110
DTSTAMP:20260421T063201
CREATED:20251105T020829Z
LAST-MODIFIED:20251105T020829Z
UID:24793-1762387200-1762732799@www.the180i.com
SUMMARY:Monaco Sportsboat Winter Series (Act I)
DESCRIPTION:Monaco Sportsboat Winter Series (Act I) is held from Thursday 6 to Sunday 9 November 2025 in the Bay of Monaco. \nIn line with the YCM’s sailing policy\, having been initiated in the Melges 20 class in 2013 at the instigation of Valentin Zavadnikov\, then the J/70s\, the Monaco Sportsboat Winter Series is a monthly programme of regattas and training weekends for one-design boats from December to March. \n\n\n\n\n\nIt has proved a very successful format with more than 350 sailors coming from across Europe to set up their winter training base in the Principality to prepare for the upcoming season’s big meetings. \n\nAct I :6-9 November 2025\nAct II : 4-7 December 2025\nAct III : 12-15 February 2026 \nAct IV : 5-8  March 2026  Primo Cup – UBS Trophy
URL:https://www.the180i.com/event/monaco-sportsboat-winter-series-act-i/
LOCATION:Yacht Club de Monaco\, Quai Louis II\, Monaco
CATEGORIES:Awards,Lifestyle,Most Popular,Sports,Yachting
ATTACH;FMTTYPE=image/jpeg:https://www.the180i.com/wp-content/uploads/2025/11/winter-sportboat-winter-series-featured-1200x630-opt-1.jpg
END:VEVENT
BEGIN:VEVENT
DTSTART;TZID=Europe/Paris:20251106T080000
DTEND;TZID=Europe/Paris:20251106T170000
DTSTAMP:20260421T063201
CREATED:20251105T020529Z
LAST-MODIFIED:20251105T020706Z
UID:24792-1762416000-1762448400@www.the180i.com
SUMMARY:World Caviar Awards - 2nd Edition
DESCRIPTION:On November 6\, 2025\, at the Yacht Club de Monaco\, the World Caviar Awards will return for its second edition. \nCompetitors from 20 countries\, including Russia\, Iran\, France\, Italy\, China\, and the United States\, will submit their finest caviars\, each representing distinct methods\, philosophies\, and terroirs. \nEach caviar will be judged according to appearance\, texture\, balance\, and length on the palate\, elements that together compose the sensory poetry of this legendary delicacy. \nVisit the website for more details: https://www.worldcaviarawards.com/
URL:https://www.the180i.com/event/world-caviar-awards-2nd-edition/
LOCATION:Yacht Club de Monaco\, Quai Louis II\, Monaco
CATEGORIES:Awards,Celebrities,Entertainment,Lifestyle,Most Popular
ATTACH;FMTTYPE=image/jpeg:https://www.the180i.com/wp-content/uploads/2025/11/monaco-caviar-awards-featured-1200x630-opt.jpg
END:VEVENT
BEGIN:VEVENT
DTSTART;TZID=Europe/Paris:20251110T183000
DTEND;TZID=Europe/Paris:20251110T200000
DTSTAMP:20260421T063201
CREATED:20251105T031821Z
LAST-MODIFIED:20251105T031821Z
UID:24825-1762799400-1762804800@www.the180i.com
SUMMARY:AMCA Presents a Lecture: Christian Dior\, the Inspiration of Nature
DESCRIPTION:The Monegasque Association for the Knowledge of the Arts (AMCA) will present its second conference on November 10th at the Théâtre des Variétés\, with the theme: “Christian Dior\, the Inspiration of Nature.” \nThe gardens of Granville were a formative place for Christian Dior\, where a sensitivity to nature took root\, a sensitivity that still permeates the world of the House of Dior today. \nChristian Dior\, the Inspiration of Nature\nBorn in Granville\, the “Monaco of the North” in the Manche region\, Christian Dior flourished as a child on the family estate. Built in the Anglo-Norman style\, it is surrounded by a garden that would forever mark him\, and whose design he helped to create alongside his mother\, Madeleine. This close connection with nature\, plants\, and flowers would influence him once he became a couturier\, creating in 1947 the “flower-woman” silhouette\, inseparable from the New Look. Both a refuge and a source of inspiration\, Christian Dior’s gardens are inseparable from his life and work. The floral and plant repertoire became one of the defining characteristics of the House of Dior. \nMONDAY\, November 10\, 2025 / 6:30 PM\nChristian Dior\, Inspired by Nature\nLed by Brigitte Richart\nCurator of the Christian Dior Museum\, General Curator of the exhibition\nChristian Dior\, Enchanting Gardens \nInformation\namca.reservation@gmail.com\nFull price €12\nStudent €5\nPayment by cash or check – Credit cards not accepted\nTHÉÂTRE DES VARIÉTÉS-MONACO\nTickets available on site from 5 PM \nNovember 10 @ 6:30 pm – 8:00 pm
URL:https://www.the180i.com/event/amca-presents-a-lecture-christian-dior-the-inspiration-of-nature/
LOCATION:Théâtre des Variétés\, 1\, Boulevard Albert 1er\, Monaco
CATEGORIES:Conference,Culture & Arts,Learn,Lifestyle,Most Popular
ATTACH;FMTTYPE=image/jpeg:https://www.the180i.com/wp-content/uploads/2025/11/christian-dior-lecture-featured-1200x630-opt.jpg
ORGANIZER;CN="Association Mon%C3%A9gasque pour la Connaissance des Arts":MAILTO:evenements-amca@monaco.mc
END:VEVENT
BEGIN:VEVENT
DTSTART;VALUE=DATE:20251115
DTEND;VALUE=DATE:20251124
DTSTAMP:20260421T063201
CREATED:20251105T032720Z
LAST-MODIFIED:20251105T032720Z
UID:24830-1763164800-1763942399@www.the180i.com
SUMMARY:Join the Monaco "No Finish Line"
DESCRIPTION:Ready\, set\, give: No Finish Line Monaco returns from November 15 to 23! \nSince its inception\, the No Finish Line has been a major sporting\, intergenerational celebration\, combining self-improvement and conviviality for a single cause: helping children. Thanks to this surge of generosity and this sporting enthusiasm\, this race of the heart is a shining demonstration that happiness is always a quest to be renewed\, shared\, and offered. \nStart: Saturday\, November 15th\, 2 p.m.\nNon-stop endurance: 8 days until Sunday\, November 23rd\, 2 p.m.\nCircuit: 1\,140 meters around the Fontvieille Big Top in Monaco\nSupport: 30 Children & Future volunteers\, available day and night\nRefreshments: Permanent on the circuit throughout the race \nParticipate at your own pace\, but for the same cause. \nThe principle is simple: walk or run the circuit as many times and for as long as you like (with a chip issued on site to count the kilometers). For each kilometer run\, Children & Future commits to donating €1 to support projects that benefit sick or disadvantaged children. A race open to all\, and kilometers that change lives! \nAn eco-responsible commitment: no more disposable cups! Introducing reusable water bottles\, available on site for €1\, and personal containers. No Finish Line\, which has been involved in the fight against environmental pollution since 2021\, is continuing its ecological commitment. \nRefreshment breaks: Professionals are on hand to provide care and assistance to participants after their athletic efforts. \nCome from November 15th to 23rd at the Fontvieille Big Top in Monaco for new sporting performances!
URL:https://www.the180i.com/event/join-the-monaco-no-finish-line/
LOCATION:Espace Fontvieille\, Monaco
CATEGORIES:Charity,Family Friendly,Grand Rendez-vous,Lifestyle,Meet New Friends,Most Popular
ATTACH;FMTTYPE=image/jpeg:https://www.the180i.com/wp-content/uploads/2025/11/no-finish-line-prince-albert-2024-featured-1200x630-opt.jpg
END:VEVENT
BEGIN:VEVENT
DTSTART;TZID=Europe/Paris:20251118T200000
DTEND;TZID=Europe/Paris:20251118T203000
DTSTAMP:20260421T063201
CREATED:20251105T034838Z
LAST-MODIFIED:20251105T034838Z
UID:24835-1763496000-1763497800@www.the180i.com
SUMMARY:Join the Fireworks and Celebrate Monaco National Day Celebration Nov 18
DESCRIPTION:Fireworks on the occasion of National Day Celebration is organized on Tuesday 18 November 2025 at 8.10 pm. \nCome and watch the fireworks display for the National Day 2025.
URL:https://www.the180i.com/event/join-the-fireworks-and-celebrate-monaco-national-day-celebration-nov-18/
CATEGORIES:Cocktails & Aperitifs,Entertainment,Family Friendly,Festivals,Lifestyle,Most Popular
ATTACH;FMTTYPE=image/jpeg:https://www.the180i.com/wp-content/uploads/2025/11/monaco-national-day-2025-featured-1200x630-opt.jpg
END:VEVENT
BEGIN:VEVENT
DTSTART;TZID=Europe/Paris:20251118T210000
DTEND;TZID=Europe/Paris:20251118T223000
DTSTAMP:20260421T063201
CREATED:20251105T035411Z
LAST-MODIFIED:20251105T035411Z
UID:24838-1763499600-1763505000@www.the180i.com
SUMMARY:SUPERBUS Concert Celebrating Monaco's National Holiday Nov 18
DESCRIPTION:SUPERBUS Concert is organized on the occasion of the National Holiday on Tuesday November 18 at 9 pm in Espace Léo Ferré. \nCome and enjoy the SUPERBUS concert\, celebrating Monaco’s National Day 2025. \nInvitations will be distributed at: Espace Léo Ferré from 11:00 am to 6:00 pm and at Monaco City Hall from 9:00 am to 4:00 pm \nTuesday\, November 4th for Monegasque citizens\, their spouses\, and their children. \nWednesday\, November 5th and Thursday\, November 6th for Monegasque citizens\, their spouses\, their children\, and residents. \nFree admission\, courtesy of the Monaco City Hall. \nNovember 18 @ 9:00 pm – 10:30 pm \nFree
URL:https://www.the180i.com/event/superbus-concert-celebrating-monacos-national-holiday-nov-18/
LOCATION:Espace Léo Ferré\, Monaco
CATEGORIES:Entertainment,Family Friendly,Festivals,Grand Rendez-vous,Lifestyle,Mairie de Monaco
ATTACH;FMTTYPE=image/jpeg:https://www.the180i.com/wp-content/uploads/2025/11/superbus-monaco-national-day-2025-featured-1200x630-opt.jpg
END:VEVENT
BEGIN:VEVENT
DTSTART;VALUE=DATE:20251119
DTEND;VALUE=DATE:20251120
DTSTAMP:20260421T063201
CREATED:20251105T040641Z
LAST-MODIFIED:20251105T040641Z
UID:24841-1763510400-1763596799@www.the180i.com
SUMMARY:Monaco Celebrates National Day on November 19
DESCRIPTION:🇲🇨 The Monegasque National Day\, also known as Sovereign Prince’s Day or La Fête du Prince\, is one of Monaco’s most important holidays\, celebrated every November 19 – this year falling on a Tuesday. It’s an official public holiday honoring the reigning Prince and the Principality. \nThe tradition ties the date to the Prince’s patron saint\, though Prince Rainier III chose his enthronement date\, November 19\, which coincides with Saint Rainier of Arezzo. His son\, Prince Albert II\, continues the custom in tribute. \nIn the weeks leading up to the celebration\, Monaco turns red and white\, with flags and decorations covering streets\, buildings\, and balconies. \n🎆 Festivities include: \nFireworks at Port Hercule on the evening of November 18\nA special Mass at Monaco Cathedral attended by the Princely Family\nA military parade at the Prince’s Palace Square\nCity-wide celebrations filled with music\, flags\, and joy\nA funfair at Port Hercule\, open throughout the holiday \nOn the evening of the 18th\, spectacular fireworks light up Port Hercule\, marking a moment of sharing and unity for Monegasques and visitors alike. \nOn the 19th\, celebrations begin with Mass at Monaco Cathedral\, attended by Prince Albert II and the Princely Family\, followed by a military parade on the Place du Palais. \nThe funfair in Port Hercule will also be open on the National day. \nThe day is a proud display of Monegasque unity\, tradition\, and loyalty to the Sovereign Prince.
URL:https://www.the180i.com/event/monaco-celebrates-national-day-on-november-19/
CATEGORIES:Concerts,Entertainment,Family Friendly,Festivals,Lifestyle,Most Popular
ATTACH;FMTTYPE=image/jpeg:https://www.the180i.com/wp-content/uploads/2025/11/monaco-national-day-flags-featured-1200x630-opt.jpg
END:VEVENT
BEGIN:VEVENT
DTSTART;TZID=Europe/Paris:20251119T180000
DTEND;TZID=Europe/Paris:20251119T193000
DTSTAMP:20260421T063201
CREATED:20251105T041433Z
LAST-MODIFIED:20251105T041433Z
UID:24844-1763575200-1763580600@www.the180i.com
SUMMARY:Philippine Delaire Show on Monaco's National Holiday November 19
DESCRIPTION:Philippine Delaire Show is organized on the occasion of the National Holiday on Wednesday November 19 at 6 pm in Espace Léo Ferré. \nCome and see Philippine Delaire’s show\, on the occasion of the Monaco’s National Day 2025. \nInvitations will be distributed at: Espace Léo Ferré from 11:00 am to 6:00 pm and at Monaco City Hall from 9:00 am to 4:00 pm \nTuesday\, November 4th for Monegasque citizens\, their spouses\, and their children. \nWednesday\, November 5th and Thursday\, November 6th for Monegasque citizens\, their spouses\, their children\, and residents. \nFree admission\, courtesy of the Monaco City Hall. \nNovember 19 @ 6:00 pm – 7:30 pm \nFree
URL:https://www.the180i.com/event/philippine-delaire-show-on-monacos-national-holiday-november-19/
LOCATION:Espace Léo Ferré\, Monaco
CATEGORIES:Celebrities,Entertainment,Family Friendly,Festivals,Lifestyle,Mairie de Monaco,Most Popular
ATTACH;FMTTYPE=image/jpeg:https://www.the180i.com/wp-content/uploads/2025/11/monaco-national-day-philippine-delaire-featured-1200x630-opt.jpg
END:VEVENT
BEGIN:VEVENT
DTSTART;VALUE=DATE:20251204
DTEND;VALUE=DATE:20251208
DTSTAMP:20260421T063201
CREATED:20251105T021225Z
LAST-MODIFIED:20251105T021225Z
UID:24803-1764806400-1765151999@www.the180i.com
SUMMARY:Monaco Sportsboat Winter Series (Act II)
DESCRIPTION:Monaco Sportsboat Winter Series (Act II) is held from December 4-7\, 2025 in the Bay of Monaco. \nIn line with the YCM’s sailing policy\, having been initiated in the Melges 20 class in 2013 at the instigation of Valentin Zavadnikov\, then the J/70s\, the Monaco Sportsboat Winter Series is a monthly programme of regattas and training weekends for one-design boats from December to March. \n\n\n\n\n\nIt has proved a very successful format with more than 350 sailors coming from across Europe to set up their winter training base in the Principality to prepare for the upcoming season’s big meetings. \n\nAct I :6-9 November 2025\nAct II : 4-7 December 2025\nAct III : 12-15 February 2026 \nAct IV : 5-8  March 2026  Primo Cup – UBS Trophy
URL:https://www.the180i.com/event/monaco-sportsboat-winter-series-act-ii/
LOCATION:Yacht Club de Monaco\, Quai Louis II\, Monaco
CATEGORIES:Awards,Lifestyle,Most Popular,Sports,Yachting
ATTACH;FMTTYPE=image/jpeg:https://www.the180i.com/wp-content/uploads/2025/11/winter-sportboat-winter-series-featured-1200x630-opt-1.jpg
END:VEVENT
BEGIN:VEVENT
DTSTART;VALUE=DATE:20260212
DTEND;VALUE=DATE:20260216
DTSTAMP:20260421T063201
CREATED:20251105T021441Z
LAST-MODIFIED:20251105T021441Z
UID:24805-1770854400-1771199999@www.the180i.com
SUMMARY:Monaco Sportsboat Winter Series (Act III)
DESCRIPTION:Monaco Sportsboat Winter Series (Act III) is held from February 12-15\, 2026 in the Bay of Monaco. \nIn line with the YCM’s sailing policy\, having been initiated in the Melges 20 class in 2013 at the instigation of Valentin Zavadnikov\, then the J/70s\, the Monaco Sportsboat Winter Series is a monthly programme of regattas and training weekends for one-design boats from December to March. \n\n\n\n\n\nIt has proved a very successful format with more than 350 sailors coming from across Europe to set up their winter training base in the Principality to prepare for the upcoming season’s big meetings. \n\nAct I :6-9 November 2025\nAct II : 4-7 December 2025\nAct III : 12-15 February 2026 \nAct IV : 5-8  March 2026  Primo Cup – UBS Trophy
URL:https://www.the180i.com/event/monaco-sportsboat-winter-series-act-iii/
LOCATION:Yacht Club de Monaco\, Quai Louis II\, Monaco
CATEGORIES:Awards,Lifestyle,Most Popular,Sports,Yachting
ATTACH;FMTTYPE=image/jpeg:https://www.the180i.com/wp-content/uploads/2025/11/winter-sportboat-winter-series-featured-1200x630-opt-1.jpg
END:VEVENT
BEGIN:VEVENT
DTSTART;VALUE=DATE:20260305
DTEND;VALUE=DATE:20260309
DTSTAMP:20260421T063201
CREATED:20251105T021940Z
LAST-MODIFIED:20251105T021940Z
UID:24807-1772668800-1773014399@www.the180i.com
SUMMARY:Monaco Sportsboat Winter Series (Act IV) Primo Cup UBS Trophy
DESCRIPTION:Monaco Sportsboat Winter Series (Act IV) Primo Cup UBS Trophy is held from March 5-8\, 2026 in the Bay of Monaco. \nIn line with the YCM’s sailing policy\, having been initiated in the Melges 20 class in 2013 at the instigation of Valentin Zavadnikov\, then the J/70s\, the Monaco Sportsboat Winter Series is a monthly programme of regattas and training weekends for one-design boats from December to March. \n\n\n\n\n\nIt has proved a very successful format with more than 350 sailors coming from across Europe to set up their winter training base in the Principality to prepare for the upcoming season’s big meetings. \n\nAct I :6-9 November 2025\nAct II : 4-7 December 2025\nAct III : 12-15 February 2026 \nAct IV : 5-8  March 2026  Primo Cup – UBS Trophy
URL:https://www.the180i.com/event/monaco-sportsboat-winter-series-act-iv-primo-cup-ubs-trophy/
LOCATION:Yacht Club de Monaco\, Quai Louis II\, Monaco
CATEGORIES:Awards,Lifestyle,Most Popular,Sports,Yachting
ATTACH;FMTTYPE=image/jpeg:https://www.the180i.com/wp-content/uploads/2025/11/winter-sportboat-winter-series-featured-1200x630-opt-1.jpg
END:VEVENT
END:VCALENDAR