BEGIN:VCALENDAR
VERSION:2.0
PRODID:-//The 180i Digital Magazine - ECPv6.15.20//NONSGML v1.0//EN
CALSCALE:GREGORIAN
METHOD:PUBLISH
X-ORIGINAL-URL:https://www.the180i.com
X-WR-CALDESC:Events for The 180i Digital Magazine
REFRESH-INTERVAL;VALUE=DURATION:PT1H
X-Robots-Tag:noindex
X-PUBLISHED-TTL:PT1H
BEGIN:VTIMEZONE
TZID:Europe/Paris
BEGIN:DAYLIGHT
TZOFFSETFROM:+0100
TZOFFSETTO:+0200
TZNAME:CEST
DTSTART:20240331T010000
END:DAYLIGHT
BEGIN:STANDARD
TZOFFSETFROM:+0200
TZOFFSETTO:+0100
TZNAME:CET
DTSTART:20241027T010000
END:STANDARD
BEGIN:DAYLIGHT
TZOFFSETFROM:+0100
TZOFFSETTO:+0200
TZNAME:CEST
DTSTART:20250330T010000
END:DAYLIGHT
BEGIN:STANDARD
TZOFFSETFROM:+0200
TZOFFSETTO:+0100
TZNAME:CET
DTSTART:20251026T010000
END:STANDARD
BEGIN:DAYLIGHT
TZOFFSETFROM:+0100
TZOFFSETTO:+0200
TZNAME:CEST
DTSTART:20260329T010000
END:DAYLIGHT
BEGIN:STANDARD
TZOFFSETFROM:+0200
TZOFFSETTO:+0100
TZNAME:CET
DTSTART:20261025T010000
END:STANDARD
END:VTIMEZONE
BEGIN:VEVENT
DTSTART;TZID=Europe/Paris:20250507T183000
DTEND;TZID=Europe/Paris:20250507T220000
DTSTAMP:20260424T011613
CREATED:20250507T165154Z
LAST-MODIFIED:20250513T165521Z
UID:23142-1746642600-1746655200@www.the180i.com
SUMMARY:Jam Sessions for Music Lovers
DESCRIPTION:The Jam Sessions are a chance for music lovers to come together around their shared passion. \nOpen to all ages and levels\, from beginner to expert\, these evenings are the perfect way to experience the magic of performing on stage\, in a friendly and cheerful atmosphere. Bring your instrument along and let’s make some music! (percussion\, keyboard instruments and microphones provided).
URL:https://www.the180i.com/event/jam-sessions-for-music-lovers/
LOCATION:Marché de La Condamine\, 15\, place d' Armes\, Monaco
CATEGORIES:Cocktails & Aperitifs,Family Friendly,Mairie de Monaco,Meet New Friends,Music
ATTACH;FMTTYPE=image/jpeg:https://www.the180i.com/wp-content/uploads/2025/05/jam-session-music-1200x630-opt.jpg
END:VEVENT
BEGIN:VEVENT
DTSTART;TZID=Europe/Paris:20250509T183000
DTEND;TZID=Europe/Paris:20250509T233000
DTSTAMP:20260424T011613
CREATED:20250507T093554Z
LAST-MODIFIED:20250507T093554Z
UID:23045-1746815400-1746833400@www.the180i.com
SUMMARY:Karaoke Night at Slammers in Monaco
DESCRIPTION:🎤 Slammers Karaoke Night is Back! 🎤\nDue to popular demand\, Karaoke Night is making a return to Slammers on Friday\, May 9th from 6:30PM onwards! \nGet ready for another unforgettable night of music\, laughter\, and good vibes — with free entry and a great cause! We’ll also be raising money for local charities\, so every note you hit (or miss!) helps make a difference. \n🎶 Last time was a blast — this time\, we’re going even bigger.\nSo warm up those vocal cords\, grab your crew\, and bring the energy! \nSee you at the mic!
URL:https://www.the180i.com/event/karaoke-night-at-slammers-in-monaco/
LOCATION:Slammers Bar\, 6 Rue Suffren Reymond\, Monaco
CATEGORIES:Charity,Cocktails & Aperitifs,Entertainment,Featured,Meet New Friends
ATTACH;FMTTYPE=image/jpeg:https://www.the180i.com/wp-content/uploads/2025/05/karaoke-slammers-1200x630-opt.jpg
END:VEVENT
BEGIN:VEVENT
DTSTART;TZID=Europe/Paris:20250511T170000
DTEND;TZID=Europe/Paris:20250511T220000
DTSTAMP:20260424T011613
CREATED:20250425T015026Z
LAST-MODIFIED:20250425T015026Z
UID:22785-1746982800-1747000800@www.the180i.com
SUMMARY:Event - "L'Apéro des Frenchy"
DESCRIPTION:Sunday 11 May 2025\, from 5 pm to 10 pm\, Marché de La Condamine \nThe now famous “Apéro des Frenchy” or “Frenchies’ Apéritif” is back at La Condamine Market! \nThe recipe is simple: a healthy splash of merriment\, a few rounds of pétanque\, and a big pinch of music\, all of the ingredients needed for a superb evening’s entertainment that’s more popular than ever. \nEveryone is welcome to come along and sample the cheerful and friendly atmosphere and refreshments\, with blind tests and pop hits from the 50s to the 80s! Advanced booking required. Weather permitting.
URL:https://www.the180i.com/event/event-lapero-des-frenchy/
LOCATION:Marché de La Condamine\, 15\, place d' Armes\, Monaco
CATEGORIES:Cocktails & Aperitifs,Culture & Arts,Meet New Friends
ATTACH;FMTTYPE=image/jpeg:https://www.the180i.com/wp-content/uploads/2025/04/lapero-frenchie-2-the-180i-featured-1200x630-opt.jpg
END:VEVENT
END:VCALENDAR