BEGIN:VCALENDAR
VERSION:2.0
PRODID:-//The 180i Digital Magazine - ECPv6.15.20//NONSGML v1.0//EN
CALSCALE:GREGORIAN
METHOD:PUBLISH
X-WR-CALNAME:The 180i Digital Magazine
X-ORIGINAL-URL:https://www.the180i.com
X-WR-CALDESC:Events for The 180i Digital Magazine
REFRESH-INTERVAL;VALUE=DURATION:PT1H
X-Robots-Tag:noindex
X-PUBLISHED-TTL:PT1H
BEGIN:VTIMEZONE
TZID:Europe/Paris
BEGIN:DAYLIGHT
TZOFFSETFROM:+0100
TZOFFSETTO:+0200
TZNAME:CEST
DTSTART:20240331T010000
END:DAYLIGHT
BEGIN:STANDARD
TZOFFSETFROM:+0200
TZOFFSETTO:+0100
TZNAME:CET
DTSTART:20241027T010000
END:STANDARD
BEGIN:DAYLIGHT
TZOFFSETFROM:+0100
TZOFFSETTO:+0200
TZNAME:CEST
DTSTART:20250330T010000
END:DAYLIGHT
BEGIN:STANDARD
TZOFFSETFROM:+0200
TZOFFSETTO:+0100
TZNAME:CET
DTSTART:20251026T010000
END:STANDARD
BEGIN:DAYLIGHT
TZOFFSETFROM:+0100
TZOFFSETTO:+0200
TZNAME:CEST
DTSTART:20260329T010000
END:DAYLIGHT
BEGIN:STANDARD
TZOFFSETFROM:+0200
TZOFFSETTO:+0100
TZNAME:CET
DTSTART:20261025T010000
END:STANDARD
END:VTIMEZONE
BEGIN:VEVENT
DTSTART;VALUE=DATE:20250208
DTEND;VALUE=DATE:20250210
DTSTAMP:20260421T135935
CREATED:20250424T081852Z
LAST-MODIFIED:20250425T025732Z
UID:22622-1738972800-1739145599@www.the180i.com
SUMMARY:Activities - "Experience the Ocean"
DESCRIPTION:From Saturday 8 February to Sunday 9 March 2025\, Musée Océanographique de Monaco \nA visit to the Oceanographic Museum of Monaco is the complete ocean experience. Its aquarium contains a diverse collection of marine species\, while “Oceanomania”\, created by Mark Dion\, is the world’s largest “cabinet of sea curiosities”. The “Monaco and the Ocean” room with its modern and interactive scenography tells the story of the Princes of Monaco and their historic commitment to the cause of ocean conservation\, from Albert I to Albert II. The museum also offers unique activities\, including the chance to handle sea creatures\, a 360° virtual reality experience\, and an oceanography-themed escape game. For children aged 6 to 12\, the Oceano Club organises fun and educational “discovery” sessions during the school holidays.
URL:https://www.the180i.com/event/activities-experience-the-ocean/
LOCATION:Avenue Saint-Martin
CATEGORIES:Family Friendly,Innovation & Technology,Sustainability
END:VEVENT
END:VCALENDAR