BEGIN:VCALENDAR
VERSION:2.0
PRODID:-//The 180i Digital Magazine - ECPv6.15.20//NONSGML v1.0//EN
CALSCALE:GREGORIAN
METHOD:PUBLISH
X-WR-CALNAME:The 180i Digital Magazine
X-ORIGINAL-URL:https://www.the180i.com
X-WR-CALDESC:Events for The 180i Digital Magazine
REFRESH-INTERVAL;VALUE=DURATION:PT1H
X-Robots-Tag:noindex
X-PUBLISHED-TTL:PT1H
BEGIN:VTIMEZONE
TZID:Europe/Paris
BEGIN:DAYLIGHT
TZOFFSETFROM:+0100
TZOFFSETTO:+0200
TZNAME:CEST
DTSTART:20240331T010000
END:DAYLIGHT
BEGIN:STANDARD
TZOFFSETFROM:+0200
TZOFFSETTO:+0100
TZNAME:CET
DTSTART:20241027T010000
END:STANDARD
BEGIN:DAYLIGHT
TZOFFSETFROM:+0100
TZOFFSETTO:+0200
TZNAME:CEST
DTSTART:20250330T010000
END:DAYLIGHT
BEGIN:STANDARD
TZOFFSETFROM:+0200
TZOFFSETTO:+0100
TZNAME:CET
DTSTART:20251026T010000
END:STANDARD
BEGIN:DAYLIGHT
TZOFFSETFROM:+0100
TZOFFSETTO:+0200
TZNAME:CEST
DTSTART:20260329T010000
END:DAYLIGHT
BEGIN:STANDARD
TZOFFSETFROM:+0200
TZOFFSETTO:+0100
TZNAME:CET
DTSTART:20261025T010000
END:STANDARD
END:VTIMEZONE
BEGIN:VEVENT
DTSTART;VALUE=DATE:20250329
DTEND;VALUE=DATE:20260101
DTSTAMP:20260421T105110
CREATED:20250424T084136Z
LAST-MODIFIED:20250425T025615Z
UID:22647-1743206400-1767225599@www.the180i.com
SUMMARY:Exhibition - "Mediterranean 2050"
DESCRIPTION:From Saturday 29 March\, Musée Océanographique de Monaco \nThe Oceanographic Institute of Monaco is proud to present “Mediterranean 2050”\, an immersive and interactive exhibition at the Oceanographic Museum. With some 1\,000 square metres of exhibits to explore\, museum visitors can get a glimpse of the Mediterranean from a new perspective\, and commit to protecting our local Sea with a journey through time and space that will take them forward to the year 2050.
URL:https://www.the180i.com/event/exhibition-mediterranean-2050/
LOCATION:Oceanographic Museum of Monaco\, Avenue Saint-Martin\, Monaco
CATEGORIES:Exhibition,Family Friendly,Innovation & Technology,Sustainability
ATTACH;FMTTYPE=image/jpeg:https://www.the180i.com/wp-content/uploads/2025/04/medterranean-exhibition-20250-events-the-180i-featured-1200x630-opt.jpg
END:VEVENT
BEGIN:VEVENT
DTSTART;TZID=Europe/Paris:20250517T080000
DTEND;TZID=Europe/Paris:20250518T010000
DTSTAMP:20260421T105110
CREATED:20250515T173035Z
LAST-MODIFIED:20250517T105049Z
UID:23347-1747468800-1747530000@www.the180i.com
SUMMARY:Gala - "Save the Rainforest" by Borneo Wildlife in Monaco
DESCRIPTION:SAVE THE RAINFOREST GALA \n17 May | Fairmont Monte-Carlo | 7PM\nJUST A FEW TICKETS LEFT!\n\nJoin us for a night where glamour meets purpose at the Save the Rainforest Gala\, hosted by Borneo Wildlife Preservation.\n\n\n Sustainable fashion show by Junk Kouture\n\n\n Premier Cru Champagne & gourmet dining\n Star Power Shannon Elizabeth (“American Pie”\, “Scary Movie”) founder of Shannon Elizabeth Foundation\n Star Power Chris DeRose (“Desire”\, “Fist of the North Star”) founder of Last Chance for Animals\n Star Power Finn Campbell-Notman\, award-winning British artist and Sky Arts Landscape Artist of the Year 2023.\n Keynote by Christian Moore\, Monaco Ambassadors Club\n\n Charity auction & tombola\n Support for wildlife sanctuaries in Borneo\, Congo & South Africa\n\n\n\nPurchase your ticket here: https://www.bwpgala.org/\n\n\nProceeds go to vital conservation projects across the globe.\n\n Fairmont\, Salle d’Or Ballroom | Limited tickets available\n Get involved. Make a difference. Save the rainforest.
URL:https://www.the180i.com/event/gala-save-the-rainforest-by-borneo-wildlife-in-monaco/
LOCATION:Fairmont Monte-Carlo\, 12 Av. des Spélugues\, Monaco
CATEGORIES:Balls and Galas,Charity,Most Popular,Sustainability
ATTACH;FMTTYPE=image/jpeg:https://www.the180i.com/wp-content/uploads/2025/05/borneo-wildlife-gala-1200x630-7-opt.jpg
END:VEVENT
BEGIN:VEVENT
DTSTART;TZID=Europe/Paris:20250518T130000
DTEND;TZID=Europe/Paris:20250518T220000
DTSTAMP:20260421T105110
CREATED:20250512T130617Z
LAST-MODIFIED:20250512T130617Z
UID:23091-1747573200-1747605600@www.the180i.com
SUMMARY:The SDG Impact Villa lights up Cannes with purpose & power
DESCRIPTION:Cannes\, 18 May 2025 — In a sun-soaked private villa overlooking the Côte d’Azur\, 200 global changemakers\, artists\, and innovators will gather for The SDG Impact Villa — during the Cannes Film Festival. \nThe SDG Impact Villa offers an unforgettable afternoon and evening of inspiration\, connection\, and celebration—all in support of the Sustainable Development Goals\, at a stunning private villa\, this invite-only gathering brings together change-makers\, visionaries\, and party lovers for a unique blend of purpose and play. \nThe all-day affair blends high-impact dialogue with high-end experiences. Five dynamic SDG-themed panels will feature thought leaders such as Phurba Khen Rinpoche Lama\, Michael Terpin\, Charlie Shrem\, Valentina Castellani-Quinn\, Danielle Turkov Wilson\, Scott Page\, and others — diving deep into urgent issues from blockchain innovation to gender equity and climate resilience. \nGuests will be treated to a social impact film screening and a spiritual peace blessing by Phurba Khen Rinpoche Lama\, bridging mindfulness and mission in a rare moment of serenity. \nAs the golden hour arrives\, the atmosphere will shift to celebration — DJ Donn Healy (Ibiza) will take over the decks while gourmet fare from The Lake Or Noir and an open bar featuring top-shelf cocktails set the tone for an unforgettable evening. \nOne of the standout experiences? Futuristic AI twin shoots powered by Angel Twin/Twin Protocol\, offering guests a glimpse into the next wave of digital identity tech. \nCo-hosted by a visionary team — including Nick Baci\, Dr. Harry Malinski\, Mitchell Ruiz\, Morielle Harris\, and Benn Wiebe — the SDG Impact Villa proves that progress and pleasure can go hand in hand.
URL:https://www.the180i.com/event/the-sdg-impact-villa-lights-up-cannes-with-purpose-power/
LOCATION:Register for the Venue
CATEGORIES:Business,Celebrities,Cocktails & Aperitifs,Conference,Featured,Festivals,Sustainability
ATTACH;FMTTYPE=image/jpeg:https://www.the180i.com/wp-content/uploads/2025/05/sdg-impact-conference-1200x630-opt.jpg
END:VEVENT
BEGIN:VEVENT
DTSTART;TZID=Europe/Paris:20250518T200000
DTEND;TZID=Europe/Paris:20250519T030000
DTSTAMP:20260421T105110
CREATED:20250512T130703Z
LAST-MODIFIED:20250517T123656Z
UID:23086-1747598400-1747623600@www.the180i.com
SUMMARY:SDG Impact After Party Brings Sustainability & Style to Cannes Film Festival
DESCRIPTION:🎉 SDG Impact After Party Brings Sustainability & Style to Cannes Film Festival 🎬🌍 \nJuan-les-Pins\, 18 May 2025 — Sustainability and style at the SDG Impact After Party\, a high-energy celebration of sustainability and social impact held during the Cannes Film Festival. Set at the iconic Villa Djunah\, the event brings together changemakers\, creatives\, and impact investors for a night under the stars — with a powerful purpose. \nRunning from 8 PM to 3 AM\, guests will dance through the night to sets by acclaimed DJs Maya (Brazil) and Donn Healy (Ibiza)\, sip curated cocktails from Villa Djunah’s indoor and outdoor bars\, and mingle with an eclectic crowd of filmmakers\, influencers\, and advocates of the UN Sustainable Development Goals (SDGs). \nCo-hosted by Abovo Events\, Blue Sky Impac and Villa Djunah.  \nADDRESS\nVilla Djunah\n1 Boulevard Charles Guillaumont\n06600 Juan-les-Pin \nTICKETS\n* Link: sdg-afterparty.eventbrite.com\n* Price: € 20\n* Tables and VIP Packages are available. Please contact for table reservations. \nDRESS CODE\nThe dress code is — “eccentric and fabulous”. \nQuestions\, contact andreas@swahns.com for collaborations.
URL:https://www.the180i.com/event/sdg-impact-after-party-brings-sustainability-style-to-cannes-film-festival/
LOCATION:Villa Djunah\, 1 Boulevard Charles Guillaumont\, Juan-les-Pin\, 06600\, France
CATEGORIES:Business,Celebrities,Cocktails & Aperitifs,Entertainment,Featured,Restaurants, Bars & Clubs,Sustainability
ATTACH;FMTTYPE=image/jpeg:https://www.the180i.com/wp-content/uploads/2025/05/sdg-impact-after-party-1200x630-opt.jpg
ORGANIZER;CN="Andreas Swahn":MAILTO:andreas@swahns.com
END:VEVENT
END:VCALENDAR